BEGIN:VCALENDAR
VERSION:2.0
PRODID:-//CITEC - ECPv6.5.1.6//NONSGML v1.0//EN
CALSCALE:GREGORIAN
METHOD:PUBLISH
X-WR-CALNAME:CITEC
X-ORIGINAL-URL:https://citec.com.ec
X-WR-CALDESC:Eventos para CITEC
REFRESH-INTERVAL;VALUE=DURATION:PT1H
X-Robots-Tag:noindex
X-PUBLISHED-TTL:PT1H
BEGIN:VTIMEZONE
TZID:UTC
BEGIN:STANDARD
TZOFFSETFROM:+0000
TZOFFSETTO:+0000
TZNAME:UTC
DTSTART:20240101T000000
END:STANDARD
END:VTIMEZONE
BEGIN:VEVENT
DTSTART;VALUE=DATE:20240719
DTEND;VALUE=DATE:20240720
DTSTAMP:20260422T082126
CREATED:20240717T192616Z
LAST-MODIFIED:20240717T192616Z
UID:21251-1721347200-1721433599@citec.com.ec
SUMMARY:nMedical power by nDeveloper
DESCRIPTION:  \n¡nMedical se transforma por ustedes! 🎉 \nEstamos emocionados de anunciarles el evento de lanzamiento de su nueva marca y demostración de su software de gestión hospitalaria. Descubra cómo nMedical está revolucionando la gestión hospitalaria con sus innovadoras soluciones. \n📅 Fecha: 19 de Julio del 2024 \n🕒 Hora: 8:30 am \n📍 Transmisión en vivo a través de Facebook \nhttps://www.facebook.com/share/XM8yxwL47XmBrTyR/ \nNo pierda la oportunidad de: \n1.⁠ ⁠Conocer las nuevas funcionalidades de nuestro software. \n2.⁠ ⁠Participar en una demostración en vivo.
URL:https://citec.com.ec/eventos/nmedical-power-by-ndeveloper/
ATTACH;FMTTYPE=image/jpeg:https://citec.com.ec/wp-content/uploads/2024/07/WhatsApp-Image-2024-07-17-at-2.15.13-PM.jpeg
END:VEVENT
BEGIN:VEVENT
DTSTART;VALUE=DATE:20240719
DTEND;VALUE=DATE:20240720
DTSTAMP:20260422T082126
CREATED:20240716T163538Z
LAST-MODIFIED:20240716T163538Z
UID:21246-1721347200-1721433599@citec.com.ec
SUMMARY:webinar ¿Cómo adoptar nuevas tecnologías sin grandes inversiones?
DESCRIPTION:  \n  \nÚnete a nuestro webinar: “¿Cómo adoptar nuevas tecnologías sin grandes inversiones?” 🚀 \nNuestros especialistas Andrés y Carolina te explicarán cómo llevar tu pyme al siguiente nivel y responderán tus preguntas en vivo. \n🗓️ Viernes 19 de julio\n⏰ 11am\n📍 Regístrate aquí: https://us02web.zoom.us/meeting/register/tZMkduurqD0rHdw11L7X528g6OMnM_MXj4TS \nClúster de Transformación Digital Guayaquil Épico Ministerio de Producción\, Comercio Exterior\, Inversiones y Pesca
URL:https://citec.com.ec/eventos/webinar-como-adoptar-nuevas-tecnologias-sin-grandes-inversiones/
ATTACH;FMTTYPE=image/jpeg:https://citec.com.ec/wp-content/uploads/2024/07/WhatsApp-Image-2024-07-16-at-11.10.59-AM.jpeg
END:VEVENT
BEGIN:VEVENT
DTSTART;VALUE=DATE:20240711
DTEND;VALUE=DATE:20240712
DTSTAMP:20260422T082126
CREATED:20240704T200904Z
LAST-MODIFIED:20240704T200904Z
UID:21117-1720656000-1720742399@citec.com.ec
SUMMARY:El CDO del Futuro
DESCRIPTION:  \n¿Estás en Quito Ecuador 🇪🇨 y eres experto en Analítica👨🏻‍💻👩🏽‍💻 de Datos? Acompáñanos a degustar de una cena guiada y a platicar con nuestros expertos sobre El CDO del Futuro\n¡Regístrate hoy!\nParticipa para ganarte un cupo en el siguiente link:\nhttps://shorturl.at/j8wFk\nMartinexsa
URL:https://citec.com.ec/eventos/el-cdo-del-futuro/
ATTACH;FMTTYPE=image/jpeg:https://citec.com.ec/wp-content/uploads/2024/07/WhatsApp-Image-2024-07-04-at-12.24.53-PM.jpeg
END:VEVENT
BEGIN:VEVENT
DTSTART;VALUE=DATE:20240711
DTEND;VALUE=DATE:20240712
DTSTAMP:20260422T082126
CREATED:20240516T190430Z
LAST-MODIFIED:20240625T215345Z
UID:20440-1720656000-1720742399@citec.com.ec
SUMMARY:Startup World Cup
DESCRIPTION:  \n \nConoce a @giselamontalvo \, Directora Ejecutiva de @citecec ! \n💼 Con una amplia experiencia en el sector tecnológico\, Gisela lidera CITEC\, la entidad que representa al sector de software\, innovación y tecnologías de la información en Ecuador.\n🌟 Su visión estratégica y compromiso con el desarrollo tecnológico hacen de Gisela una figura clave en la comunidad empresarial y tecnológica de Ecuador. \n🏆 Como jurado en el Startup World Cup\, Gisela aportará su expertise para seleccionar a la próxima startup que competirá en la gran final en San Francisco. \n¡No te pierdas la oportunidad de conocer a Gisela y otros expertos en el Startup World Cup Amazonas este 11 de julio!\nConsigue tu entrada en el link de nuestro perfil 👉 https://linktr.ee/innovath2023
URL:https://citec.com.ec/eventos/startup-world-cup/
ATTACH;FMTTYPE=image/png:https://citec.com.ec/wp-content/uploads/2024/05/Captura-de-pantalla-2024-05-16-140122.png
END:VEVENT
BEGIN:VEVENT
DTSTART;TZID=UTC:20240710T080000
DTEND;TZID=UTC:20240711T170000
DTSTAMP:20260422T082126
CREATED:20240305T201357Z
LAST-MODIFIED:20240603T222039Z
UID:19032-1720598400-1720717200@citec.com.ec
SUMMARY:Perú Digital Summit 2024
DESCRIPTION:  \n \n  \nÚnete a la plataforma que promueve el talento\, la innovación y la transferencia de conocimiento digital en el Perú. Este 10 y 11 de julio de 2024 se llevará a cabo la IV edición del Peru Digital Summit en el Swissôtel de San Isidro en la ciudad de Lima\, donde se reunirán los líderes C-Level que están transformando sus empresas\, organizaciones y el país.
URL:https://citec.com.ec/eventos/peru-digital-summit-2024/
ATTACH;FMTTYPE=image/jpeg:https://citec.com.ec/wp-content/uploads/2024/03/CITECh-Talks-Febrero-2024.jpg
END:VEVENT
BEGIN:VEVENT
DTSTART;TZID=UTC:20240708T030000
DTEND;TZID=UTC:20240708T050000
DTSTAMP:20260422T082126
CREATED:20240702T162729Z
LAST-MODIFIED:20240702T162851Z
UID:21095-1720407600-1720414800@citec.com.ec
SUMMARY:Feria de Empleabilidad Guayaquil
DESCRIPTION:  \n \n  \nEstamos emocionados de contarles que en conjunto con @oimecuador y @viamatica hemos formado nuevo talento digital en Analista de Datos y Programador Full Stack. \nSi tu empresa está en busca de talento digital regístrense y participen en nuestra feria de empleabilidad. \nLunes 8 de julio de 2024\n15:00 pm – 17:00 pm\nGuayaquil\, Av. 9 de octubre y Córdova. Edif San Francisco 300 piso 17 (Instalaciones de VIAMATICA) \n¡Contamos con ustedes para fortalecer el ecosistema! \nRegístrate aquí :  https://forms.gle/B87rkhCHwGhTXYyH6
URL:https://citec.com.ec/eventos/feria-de-empleabilidad-guayaquil/
ATTACH;FMTTYPE=image/jpeg:https://citec.com.ec/wp-content/uploads/2024/07/WhatsApp-Image-2024-07-02-at-10.00.26-AM.jpeg
END:VEVENT
BEGIN:VEVENT
DTSTART;TZID=UTC:20240703T080000
DTEND;TZID=UTC:20240704T170000
DTSTAMP:20260422T082126
CREATED:20240305T200542Z
LAST-MODIFIED:20240603T222639Z
UID:19029-1719993600-1720112400@citec.com.ec
SUMMARY:SUMAT EXPO
DESCRIPTION:  \nDestaca tu empresa en la expo feria de Logística más disruptiva de Ecuador en SUMATEXPO! \nAsegura tu presencia con un stand en nuestro evento líder en la industria. \nConecta con líderes del sector\, exhibe tus productos y servicios\, y amplía tu red de contactos. \n¡Reserva tu STAND ahora y sé parte del impulso logístico del país! \n🌐 www.sumatexpo.com\n📧 info@sumatexpo.com\n📲 593-989927952
URL:https://citec.com.ec/eventos/sumat-expo/
ATTACH;FMTTYPE=image/jpeg:https://citec.com.ec/wp-content/uploads/2024/03/RESERVA-TU-STAND-RRSS-scaled.jpg
END:VEVENT
BEGIN:VEVENT
DTSTART;VALUE=DATE:20240703
DTEND;VALUE=DATE:20240802
DTSTAMP:20260422T082126
CREATED:20240703T192358Z
LAST-MODIFIED:20240703T192358Z
UID:21111-1719964800-1722556799@citec.com.ec
SUMMARY:Eventos Enterprise Agility Institute
DESCRIPTION:  \nTe invitamos a explorar y registrarte en los eventos gratuitos que nuestros socios @eai_global tienen preparado especialmente para ti. \nNuestros socios están entusiasmados por compartir contigo experiencias enriquecedoras y conocimientos que marcarán la diferencia en tu trayectoria profesional. \n¡No pierdas la oportunidad de ser parte de estos encuentros únicos! Para más detalles y registro\, visita el siguiente enlace:\nhttps://shorturl.at/rXjY0\nPara mayor información:\nlidia.camacho@ea.institute
URL:https://citec.com.ec/eventos/eventos-enterprise-agility-institute/
ATTACH;FMTTYPE=image/jpeg:https://citec.com.ec/wp-content/uploads/2024/07/WhatsApp-Image-2024-07-03-at-2.00.22-PM.jpeg
END:VEVENT
BEGIN:VEVENT
DTSTART;VALUE=DATE:20240703
DTEND;VALUE=DATE:20240705
DTSTAMP:20260422T082126
CREATED:20240613T211717Z
LAST-MODIFIED:20240613T211717Z
UID:20929-1719964800-1720137599@citec.com.ec
SUMMARY:Minds that create the future
DESCRIPTION:  \n  \n \nMinds that create the future 🧠 \nNos complace anunciar que Gisela Montalvo @giselamontalvo \, nuestra Directora Ejecutiva\, estará presentando de casos locales en donde la innovación y la tecnológica ha generado empresas ecuatorianas exitosas. \nDescubre cómo la innovación tecnológica ha transformado el panorama empresarial ecuatoriano y obtén las claves para impulsar tu negocio al futuro. \nNo te pierdas esta oportunidad única de:\n* Obtener herramientas y estrategias para implementar en tu propio negocio.\n* Conocer casos de éxito de empresas locales que han utilizado la tecnología para innovar y crecer.\n* Aprender de expertas y expertos en innovación y tecnología. \n¡Inscríbete ahora y adquiere tu entrada!\nCupos limitados. \nRegístrate HOY link: https://www.sumatexpo.com/forum-360-2024/ \n@sumat.expo 🚀 \nMás información: \n📲 (+593) 98 992 7952 \n🌐 www.sumatexpo.com \n📧 forum360@sumatexpo.com \n@globant @ilum_digital @fedesoftcol\n@movantconnection\n#Forum360 #innovación #tecnología #eventoempresarial #management #Quito #Ecuador #CITEC #SumatExpo
URL:https://citec.com.ec/eventos/minds-that-create-the-future/
ATTACH;FMTTYPE=image/jpeg:https://citec.com.ec/wp-content/uploads/2024/06/WhatsApp-Image-2024-06-13-at-3.58.55-PM.jpeg
END:VEVENT
BEGIN:VEVENT
DTSTART;VALUE=DATE:20240701
DTEND;VALUE=DATE:20240801
DTSTAMP:20260422T082126
CREATED:20240603T201920Z
LAST-MODIFIED:20240603T202035Z
UID:20679-1719792000-1722470399@citec.com.ec
SUMMARY:Curso en ventas tecnológicas
DESCRIPTION:  \n  \n \nTe presentamos el curso especializado en ventas de servicios tecnológicos que estamos realizando en conjunto con Empower IT 😎 diseñado para ayudarte a alcanzar el éxito en el mundo de los negocios digitales. No pierdas la oportunidad de dar un salto en tu carrera profesional.💪🚀 \nRegistrate aquí: https://shorturl.at/blpZ0
URL:https://citec.com.ec/eventos/curso-en-ventas-tecnologicas/
ATTACH;FMTTYPE=image/jpeg:https://citec.com.ec/wp-content/uploads/2024/06/WhatsApp-Image-2024-06-03-at-3.07.33-PM.jpeg
END:VEVENT
BEGIN:VEVENT
DTSTART;VALUE=DATE:20240630
DTEND;VALUE=DATE:20240701
DTSTAMP:20260422T082126
CREATED:20240617T155606Z
LAST-MODIFIED:20240617T155606Z
UID:20943-1719705600-1719791999@citec.com.ec
SUMMARY:Teachstars Founder Catalyst Mujeres
DESCRIPTION:  \n  \n¡Llamando a todas las emprendedoras en Centroamérica y Ecuador! Si tienes un proyecto basado en tecnología y quieres impulsar el crecimiento de tu emprendimiento con el apoyo de @techstars y #WEXCHANGE\, ¡este programa es para ti! \nMás información: https://wexchange.co/founders-catalyst/ \nAplica aquí: https://www.f6s.com/founder-catalyst-wexchange-2024
URL:https://citec.com.ec/eventos/teachstars-founder-catalyst-mujeres/
ATTACH;FMTTYPE=image/jpeg:https://citec.com.ec/wp-content/uploads/2024/06/WhatsApp-Image-2024-06-17-at-10.38.58-AM.jpeg
END:VEVENT
BEGIN:VEVENT
DTSTART;VALUE=DATE:20240627
DTEND;VALUE=DATE:20240628
DTSTAMP:20260422T082126
CREATED:20240621T164309Z
LAST-MODIFIED:20240621T164309Z
UID:21002-1719446400-1719532799@citec.com.ec
SUMMARY:Q&A- Curso en venta de servicios tecnológicos
DESCRIPTION:  \nAclaremos tus dudas de nuestro curso en venta de servicios tecnológicos.\nEntiende la importancia y diferencia de vender servicios tecnológicos versus productos tangibles. \nRegístrate aquí: https://bit.ly/3yY2EAH
URL:https://citec.com.ec/eventos/qa-curso-en-venta-de-servicios-tecnologicos/
ATTACH;FMTTYPE=image/png:https://citec.com.ec/wp-content/uploads/2024/06/Captura-de-pantalla-2024-06-21-113120.png
END:VEVENT
BEGIN:VEVENT
DTSTART;VALUE=DATE:20240626
DTEND;VALUE=DATE:20240627
DTSTAMP:20260422T082126
CREATED:20240620T221720Z
LAST-MODIFIED:20240620T221720Z
UID:20993-1719360000-1719446399@citec.com.ec
SUMMARY:SinergIA
DESCRIPTION:  \n \n  \nEl Ministerio de Telecomunicaciones y de la Sociedad de la Información (MINTEL) le invita al Evento SinergIA en Quito! 🤖 \nExplora el impacto de la Inteligencia Artificial en la lucha contra los ciberdelitos en nuestro evento exclusivo. Conozca a expertos y participe en debates innovadores sobre el futuro de la IA en Ecuador. \n📅 Fecha: miércoles 26 de junio\n🕔 Hora: 17:45 -(registro) 18:00 – 19:30\n📍 Lugar: La Capilla Restaurante\, Plaza de San Francisco\, Quito\n📌 Confirmación de asistencia: https://forms.gle/dN33fJ76FY7vQd7b7 \n🚨¡Cupos limitados!
URL:https://citec.com.ec/eventos/sinergia/
ATTACH;FMTTYPE=image/jpeg:https://citec.com.ec/wp-content/uploads/2024/06/WhatsApp-Image-2024-06-20-at-4.53.14-PM-1.jpeg
END:VEVENT
BEGIN:VEVENT
DTSTART;TZID=UTC:20240625T090000
DTEND;TZID=UTC:20240625T120000
DTSTAMP:20260422T082126
CREATED:20240614T210700Z
LAST-MODIFIED:20240614T210700Z
UID:20932-1719306000-1719316800@citec.com.ec
SUMMARY:Workshop Business Agility en la Era de la IA
DESCRIPTION:  \n  \nÚnete a nuestro Workshop presencial exclusivo y descubre cómo la Agilidad Empresarial y la Inteligencia Artificial pueden impulsar la capacidad de adaptación e innovación en tu organización. Fabio J. Mory\, destacado experto internacional🇵🇪 y fundador de New Agile Academy LLC será quien implante este taller. @newagile_academy \nObtén conocimientos valiosos y casos prácticos. \n¡No te pierdas esta oportunidad única! Regístrate hoy mismo gratis. CUPOS LIMITADOS 📝 https://shorturl.at/dw1yd \n 
URL:https://citec.com.ec/eventos/workshop-business-agility-en-la-era-de-la-ia/
ATTACH;FMTTYPE=image/jpeg:https://citec.com.ec/wp-content/uploads/2024/06/WhatsApp-Image-2024-06-14-at-3.18.21-PM.jpeg
END:VEVENT
BEGIN:VEVENT
DTSTART;TZID=UTC:20240620T080000
DTEND;TZID=UTC:20240620T120000
DTSTAMP:20260422T082126
CREATED:20240613T150356Z
LAST-MODIFIED:20240613T150356Z
UID:20926-1718870400-1718884800@citec.com.ec
SUMMARY:Planeta ESRI
DESCRIPTION:  \nSé parte de este increíble evento que apoyamos de nuestros socios @esriecuador 👏🏻🇪🇨🔝 \nNo te lo pierdas!!! \nMira más información y regístrate aquí (link en nuestras historias):\nhttps://www.esri.co/es-ec/eventos/planeta-esri-2024/ciudades/guayaquil
URL:https://citec.com.ec/eventos/planeta-esri/
ATTACH;FMTTYPE=image/png:https://citec.com.ec/wp-content/uploads/2024/06/Captura-de-pantalla-2024-06-13-095821.png
END:VEVENT
BEGIN:VEVENT
DTSTART;VALUE=DATE:20240620
DTEND;VALUE=DATE:20240621
DTSTAMP:20260422T082126
CREATED:20240611T195546Z
LAST-MODIFIED:20240611T195546Z
UID:20916-1718841600-1718927999@citec.com.ec
SUMMARY:Estrategia de Datos Óptima\, con las herramientas adecuadas
DESCRIPTION:  \nYa nadie pone en duda que los datos son un activo de gran potencial para las compañías de cualquier tamaño y sector. Sin embargo\, el reto sigue siendo encontrar la estrategia de datos óptima que permita activarlos al tiempo que se controlan costes y riesgos. \nLos Datos son en muchos casos un potencial sin explotar. ¿Qué se puede hacer desde IT para hacer un uso inteligente de los mismos? \nEsto es de lo que queremos hablar el próximo 20 de Junio. \nEl personal de IT es esencial y el primer paso para mejorar la sistematización y posterior análisis de los datos\, así como seleccionar y evaluar los datos para organizarlos por prioridades o importancia. \n¡Imagínate el ahorro de tiempo que esto supone y la eficiencia que se consigue! \nConocer las herramientas tecnológicas que faciliten esta labor dará PODER al responsable de IT y participará activamente en sentar las bases del Gobierno del dato. \nPara confirmar tu plaza accede a esta página 👉🏽 https://acortar.link/webinar-estrategia-datos \n¡Te esperamos! \n  \n 
URL:https://citec.com.ec/eventos/estrategia-de-datos-optima-con-las-herramientas-adecuadas/
ATTACH;FMTTYPE=image/jpeg:https://citec.com.ec/wp-content/uploads/2024/06/WhatsApp-Image-2024-06-11-at-12.48.06-PM.jpeg
END:VEVENT
BEGIN:VEVENT
DTSTART;TZID=UTC:20240619T080000
DTEND;TZID=UTC:20240619T170000
DTSTAMP:20260422T082126
CREATED:20240619T210107Z
LAST-MODIFIED:20240619T210107Z
UID:20970-1718784000-1718816400@citec.com.ec
SUMMARY:Curso de Gestión de Proyectos con Inteligencia Artificial
DESCRIPTION:  \n  \nCapacítate en nuestro curso de #InteligenciaArtificial y potencia tu profesión en Gestión de Proyectos. 🌟 \nGracias a nuestro curso podrás: 🙌\n– Planificar y crear estrategias de productos con IA generativa\n– Aprender sobre lanzamiento de productos impulsados por IA \nImpulsa tu carrera estudiando IA y prepárate para llevar tus habilidades al siguiente nivel. 🚀 \n¡Desliza\, aprende y lidera el futuro! \nConoce más aquí:  https://shorturl.at/H9OBe \n@krugerschoolx @krugercorp \n#InteligenciaArtificial #FuturoDigital #InnovaciónProfesional #Capacitación #Cursos #CursoIA #CursoInteligenciaArtificial #InteligenciaArtificial #IA #Automatización
URL:https://citec.com.ec/eventos/curso-de-gestion-de-proyectos-con-inteligencia-artificial/
ATTACH;FMTTYPE=image/jpeg:https://citec.com.ec/wp-content/uploads/2024/06/WhatsApp-Image-2024-06-19-at-3.55.10-PM.jpeg
END:VEVENT
BEGIN:VEVENT
DTSTART;TZID=UTC:20240619T000000
DTEND;TZID=UTC:20240621T000000
DTSTAMP:20260422T082126
CREATED:20240223T203354Z
LAST-MODIFIED:20240223T203354Z
UID:18852-1718755200-1718928000@citec.com.ec
SUMMARY:LatamDigital 2024  Colombia
DESCRIPTION:
URL:https://citec.com.ec/eventos/latamdigital-2024-colombia/
ATTACH;FMTTYPE=image/png:https://citec.com.ec/wp-content/uploads/2024/02/Captura-de-pantalla-2024-02-23-a-las-15.31.11.png
END:VEVENT
BEGIN:VEVENT
DTSTART;TZID=UTC:20240617T000000
DTEND;TZID=UTC:20240620T000000
DTSTAMP:20260422T082126
CREATED:20240223T204715Z
LAST-MODIFIED:20240603T223001Z
UID:18858-1718582400-1718841600@citec.com.ec
SUMMARY:Misión Comercial a Canadá
DESCRIPTION:  \n  \nLes invitamos a ser parte de la Misión Comercial a Canadá y a participar en Collision\,the Olympics of tech \nExplora el mercado canadiense\, encuentra los aliados estratégicos que buscas\, sé parte de las conferencias sobre innovación y tecnología con los mejores speakers a nivel mundial y conecta con empresas líderes en el mercado global. \nDel 17 al 20 de junio en Toronto. \nlink aquí: https://forms.gle/DoZQYiVJJN2SNCbN9
URL:https://citec.com.ec/eventos/mision-comercial-a-canada/
ATTACH;FMTTYPE=image/png:https://citec.com.ec/wp-content/uploads/2024/02/Articulos-Datta-1.png
END:VEVENT
BEGIN:VEVENT
DTSTART;TZID=UTC:20240613T083000
DTEND;TZID=UTC:20240613T180000
DTSTAMP:20260422T082126
CREATED:20240527T192721Z
LAST-MODIFIED:20240527T193020Z
UID:20578-1718267400-1718301600@citec.com.ec
SUMMARY:NTT DATA Digital Summit  Quito 2024
DESCRIPTION:No te pierdas el NTT DATA Digital Summit Quito 2024 !🚀 \nDescubre las tecnologías exponenciales que están revolucionando la forma de hacer negocios. Expertos de la industria compartirán las últimas tendencias y avances tecnológicos que están transformando y redefiniendo el panorama empresarial. \nRegistrate aqui: https://hackathon.nttdata.com.pe/
URL:https://citec.com.ec/eventos/digital-summit-2024/
ATTACH;FMTTYPE=image/png:https://citec.com.ec/wp-content/uploads/2024/05/Captura-de-pantalla-2024-05-27-141124-1.png
END:VEVENT
BEGIN:VEVENT
DTSTART;TZID=UTC:20240612T040000
DTEND;TZID=UTC:20240612T190000
DTSTAMP:20260422T082126
CREATED:20240604T170617Z
LAST-MODIFIED:20240604T170617Z
UID:20801-1718164800-1718218800@citec.com.ec
SUMMARY:Feria de Empleabilidad
DESCRIPTION:  \n¡Hola a todos!\n🚀Queremos extenderles una cordial invitación a las Empresas para participar en nuestra Feria de Empleabilidad Presencial \n👩‍💻👨‍💻Este evento es una oportunidad única para conectar a su empresa con nuevo talento digital y potenciar su equipo con profesionales capacitados. \n📅 Fecha: 12 de junio 2024\n⏰ Hora: 16:00\n📍 Lugar: Quito\, Edificio Orellana 500 _ Rooftop CITEC\nNo pierdan la oportunidad de formar parte de este evento e impulsar el futuro del sector tecnológico 🚀. \nRegístrate y participa: https://bit.ly/feriaempleabilidad
URL:https://citec.com.ec/eventos/feria-de-empleabilidad-3/
ATTACH;FMTTYPE=image/jpeg:https://citec.com.ec/wp-content/uploads/2024/06/WhatsApp-Image-2024-06-04-at-11.46.06-AM.jpeg
END:VEVENT
BEGIN:VEVENT
DTSTART;VALUE=DATE:20240611
DTEND;VALUE=DATE:20240613
DTSTAMP:20260422T082126
CREATED:20240606T154141Z
LAST-MODIFIED:20240606T154515Z
UID:20869-1718064000-1718236799@citec.com.ec
SUMMARY:Expo industria 2024
DESCRIPTION:  \n¡Prepárate para el evento industrial del año! La principal feria del país está a la vuelta de la esquina\, con más de 5000 visitantes confirmados. ¿Ya aseguraste tu stand? Descubre las últimas innovaciones en #Expoindustria2024 🦾🤯. ¡No pierdas la oportunidad de reservar tu lugar en este imperdible evento! \n📅 11 y 12 de junio\n📍 Hotel Hilton Colon Guayaquil\nOrganiza: @industriasgye\n¡Los esperamos! @expoindustriaec \nPara mayor información aquî: http://expoindustriaec.com \nHorario: \n11 de Junio: Empieza 8:30 Termina: 20:00 \n12 de Junio: Empieza 9:00 Termina: 22:00 \n 
URL:https://citec.com.ec/eventos/expo-industria-2024/
ATTACH;FMTTYPE=image/jpeg:https://citec.com.ec/wp-content/uploads/2024/06/WhatsApp-Image-2024-06-06-at-9.06.12-AM-1.jpeg
END:VEVENT
BEGIN:VEVENT
DTSTART;TZID=UTC:20240606T110000
DTEND;TZID=UTC:20240606T130000
DTSTAMP:20260422T082126
CREATED:20240514T213950Z
LAST-MODIFIED:20240603T223410Z
UID:20380-1717671600-1717678800@citec.com.ec
SUMMARY:Panel "EVO"
DESCRIPTION:  \n \nTe invitamos a ser parte del Panel «EVO»! 📊 \n🔸 Únete a nosotros en este evento donde exploraremos la importancia de la tecnología en el área financiera y la transformación que nuestro país necesita. Contaremos con la participación de cuatro destacados panelistas de diferentes sectores\, quienes compartirán sus insights y experiencias. 🌟 \n▪️Maria Elena Romero\, Decana FCSHE en ESPOL \n▪️Gisela Montalvo\, Directora Ejecutiva en CITEC \n▪️Félix Chao\, Gerente General en EPICO \n▪️Luis Rivas Head Geocycle en HOLCIM \n¡Regístrate ahora para asegurar tu lugar!  https://forms.gle/UKo2C5G8oEyAfixS9
URL:https://citec.com.ec/eventos/panel-evo/
ATTACH;FMTTYPE=image/jpeg:https://citec.com.ec/wp-content/uploads/2024/05/WhatsApp-Image-2024-05-14-at-4.21.00-PM-1.jpeg
END:VEVENT
BEGIN:VEVENT
DTSTART;VALUE=DATE:20240603
DTEND;VALUE=DATE:20240605
DTSTAMP:20260422T082126
CREATED:20240521T153958Z
LAST-MODIFIED:20240603T223902Z
UID:20520-1717372800-1717545599@citec.com.ec
SUMMARY:Semana de la Inteligencia Artificial
DESCRIPTION:  \n📩 Si eres profesional y te apasionan las nuevas tecnologías\, te invitamos a ser parte de la semana de Inteligencia Artificial en #Ecuador. \nAprovecha esta oportunidad de: \n👩‍💻 Aprender con expertos internacionales mientras participas en talleres gratuitos. \n🙌 Hacer networking con expertos del sector. \n🗓️ 3 y 4 de junio. \n📍 Campus Udlapark\, auditorio 2. \n💬 Comenta IA para recibir el formulario de registro o si prefieres ve al link: https://docs.google.com/forms/d/e/1FAIpQLSfQVzmXu3f9yY8QYLe3m4ttv4FYeNJ-17csk \n🚨 Asegúrate de leer las INSTRUCCIONES del formulario de registro para las fechas y confirmaciones. Cupos limitados.
URL:https://citec.com.ec/eventos/20520/
ATTACH;FMTTYPE=image/png:https://citec.com.ec/wp-content/uploads/2024/05/Captura-de-pantalla-2024-05-21-103549.png
END:VEVENT
BEGIN:VEVENT
DTSTART;VALUE=DATE:20240602
DTEND;VALUE=DATE:20240603
DTSTAMP:20260422T082126
CREATED:20240523T160806Z
LAST-MODIFIED:20240528T174843Z
UID:20556-1717286400-1717372799@citec.com.ec
SUMMARY:Programa de entrenamiento en Hr- Tech de Latino América
DESCRIPTION:  \n \n#HRTechLatam es el primer programa de entrenamiento en español en tecnología para la gestión del #talentohumano . \nSi eres un apasionado por aprender nuevas habilidades para mejorar tu liderazgo en Recursos Humanos\, este programa es para ti👌. \nNuestra directora ejecutiva Gisela Montalvo @giselamontalvo será parte del exclusivo grupo de profesionales que impartirán sus conocimientos y experiencia. \n¡No te lo pierdas! Postúlate acá: https://airtable.com/appVaHTyMppS9MPNz/shrlcUQlRMa98a5ke
URL:https://citec.com.ec/eventos/20556/
ATTACH;FMTTYPE=image/jpeg:https://citec.com.ec/wp-content/uploads/2024/05/Programa-de-entrenamiento-en-HR-Tech-Latam-de-Latino-America.jpeg
END:VEVENT
BEGIN:VEVENT
DTSTART;TZID=UTC:20240529T160000
DTEND;TZID=UTC:20240529T170000
DTSTAMP:20260422T082126
CREATED:20240516T191107Z
LAST-MODIFIED:20240603T224016Z
UID:20443-1716998400-1717002000@citec.com.ec
SUMMARY:CITECh Talks Mayo
DESCRIPTION:  \n \nCITECh Talks Mayo  junto con @Ecotec\, @publifyer\, @sabroso . \n\n TEMA DEL MES: Impacto de la Inteligencia Artificial (IA) en la comunicación \n FECHA: Miércoles\, 29 de mayo de 2024. \n HORA: 16h00 \nREGISTRO: \nhttps://bit.ly/CITEChTalksMayo \nCon el apoyo de:\n#krugercorp @links_ec @onducloud @security.data@uanataca_ec @uecotec
URL:https://citec.com.ec/eventos/citech-talks-mayo/
ATTACH;FMTTYPE=image/png:https://citec.com.ec/wp-content/uploads/2024/05/CITECh-Talks-Mayo.png
END:VEVENT
BEGIN:VEVENT
DTSTART;TZID=UTC:20240527T180000
DTEND;TZID=UTC:20240529T210000
DTSTAMP:20260422T082126
CREATED:20240312T151000Z
LAST-MODIFIED:20240603T223141Z
UID:19073-1716832800-1717016400@citec.com.ec
SUMMARY:Workshop OKR Design
DESCRIPTION:  \n  \n \nInscríbete en el 𝘌𝘯𝘵𝘳𝘦𝘯𝘢𝘮𝘪𝘦𝘯𝘵𝘰 𝘗𝘳𝘰𝘧𝘦𝘴𝘪𝘰𝘯𝘢𝘭 OKR Design. \n\n\nEstaremos compartiendo con nuestra #DuplaDeOro Sandra Mejía J. y Alexis Hidalgo Gallardo. \n\n\nSomos centros oficiales de la prestigiosa Casa Certificadora Internacional Scrum Manager® \n\n\nAprovecha el beneficio del 20% de descuento para los socios CITEC. \n\n\n📌Workshop profesional OKR Design: \n\n\n📅 27 y 29 de mayo de 18h00 a 21h00 GMT-5 \n\n\nRegístrate en https://forms.gle/5BVggKZPx3Vbvocj6. \n\n\nPuedes comunicarte al +593984874710\, info@ati-consultores. \n\n\n¡𝘛𝘦 𝘦𝘴𝑝𝘦𝘳𝘢𝘮𝘰𝘴! 💙 \n\n🇺🇸🇪🇸\nRespaldo internacional \nConnectAmericas\nScrum Manager\nAgile Alliance\nCertJoin
URL:https://citec.com.ec/eventos/workshop-okr-design/
ATTACH;FMTTYPE=image/png:https://citec.com.ec/wp-content/uploads/2024/03/OKR-2024.png
END:VEVENT
BEGIN:VEVENT
DTSTART;VALUE=DATE:20240527
DTEND;VALUE=DATE:20240528
DTSTAMP:20260422T082126
CREATED:20240516T151016Z
LAST-MODIFIED:20240603T224147Z
UID:20427-1716768000-1716854399@citec.com.ec
SUMMARY:Sexta edición del Miami Immersion Program
DESCRIPTION:  \n  \n¿Quieres ampliar sus operaciones en el mercado estadounidense\, pero te preocupa que la entrada sea demasiado… complicada? 😁\n¡No estás solo! \n🎯 Esta es tu oportunidad de entrar acompañado al mercado de EE.UU. con las herramientas y conexiones que todo emprendedor necesita para prosperar. Mejora tu estrategia de salida al mercado\, afina tu pitch de ventas e inversores y reúnete con un grupo de emprendedores\, mentores e inversores que te ayudarán a llevar tu startup al siguiente nivel. ↗ \n👉 Las solicitudes para la sexta edición del Miami Immersion Program ya están abiertas. \n🗓 El programa arranca el 27 de mayo con tres semanas virtuales para aprender a dejar tu huella en el mercado estadounidense y termina con una semana presencial en Miami\, llena de conexiones\, mentores y eventos\, que concluye con un vibrante Demo day en nuestras oficinas. 🏢 \nLINk: https://shorturl.at/jCK19
URL:https://citec.com.ec/eventos/sexta-edicion-del-miami-immersion-program/
ATTACH;FMTTYPE=image/jpeg:https://citec.com.ec/wp-content/uploads/2024/05/WhatsApp-Image-2024-05-16-at-10.01.14-AM.jpeg
END:VEVENT
BEGIN:VEVENT
DTSTART;TZID=UTC:20240523T100000
DTEND;TZID=UTC:20240523T110000
DTSTAMP:20260422T082126
CREATED:20240514T213429Z
LAST-MODIFIED:20240523T152752Z
UID:20376-1716458400-1716462000@citec.com.ec
SUMMARY:La Digitalización y la Competitividad en las Industrias
DESCRIPTION:  \n  \n¡Únete a nuestro conversatorio «La Digitalización y la Competitividad en las Industrias» para explorar cómo la digitalización impulsa la competitividad industrial!\nDescubre cómo las herramientas tecnológicas están transformando el panorama industrial en el país. 🌐\n23 de mayo de 2024\n⏰ 10:00 a 11:00 a.m\nRegístrate aquí: https://forms.office.com/r/QQ2DFhe6LF
URL:https://citec.com.ec/eventos/la-digitalizacion-y-la-competitividad-en-las-industrias/
ATTACH;FMTTYPE=image/jpeg:https://citec.com.ec/wp-content/uploads/2024/05/WhatsApp-Image-2024-05-14-at-4.21.00-PM.jpeg
END:VEVENT
BEGIN:VEVENT
DTSTART;TZID=UTC:20240522T100000
DTEND;TZID=UTC:20240522T113000
DTSTAMP:20260422T082126
CREATED:20240514T153351Z
LAST-MODIFIED:20240523T153415Z
UID:20351-1716372000-1716377400@citec.com.ec
SUMMARY:Impulsando la eficiencia\, Automatización y Análisis de datos en la era digital
DESCRIPTION:  \n  \nDescubre los secretos de la automatización y el análisis de datos en la era digital. 💻📊\n🌐 No te pierdas esta oportunidad única de aprender\, interactuar y crecer profesionalmente. \nRegístrate ahora y prepárate para transformar tu perspectiva. \nhttps://us06web.zoom.us/webinar/register/WN_SRbg43i0Qs2Yn5llipa8mw \n#TECNOAV #AutomatizaciónDeDatos #AnálisisDigital #TecnologíaDelFuturo
URL:https://citec.com.ec/eventos/impulsando-la-eficiencia-automatizacion-y-analisis-de-datos-en-la-era-digital/
ATTACH;FMTTYPE=image/jpeg:https://citec.com.ec/wp-content/uploads/2024/05/WhatsApp-Image-2024-05-14-at-9.23.44-AM.jpeg
END:VEVENT
END:VCALENDAR