BEGIN:VCALENDAR
VERSION:2.0
PRODID:-//CITEC - ECPv6.5.1.6//NONSGML v1.0//EN
CALSCALE:GREGORIAN
METHOD:PUBLISH
X-ORIGINAL-URL:https://citec.com.ec
X-WR-CALDESC:Eventos para CITEC
REFRESH-INTERVAL;VALUE=DURATION:PT1H
X-Robots-Tag:noindex
X-PUBLISHED-TTL:PT1H
BEGIN:VTIMEZONE
TZID:UTC
BEGIN:STANDARD
TZOFFSETFROM:+0000
TZOFFSETTO:+0000
TZNAME:UTC
DTSTART:20240101T000000
END:STANDARD
END:VTIMEZONE
BEGIN:VEVENT
DTSTART;TZID=UTC:20240508T160000
DTEND;TZID=UTC:20240508T190000
DTSTAMP:20260422T130542
CREATED:20240506T192736Z
LAST-MODIFIED:20240603T224754Z
UID:20229-1715184000-1715194800@citec.com.ec
SUMMARY:POP UP TEMPOBOX
DESCRIPTION:  \n  \nEstamos muy emocionados de invitarlos a: Pop – Up Tempobox evento que estamos organizado en colaboración con otro de nuestros asociados @tempoboxec Este encuentro estará lleno de experiencias únicas. 👀 \nNos vemos el próximo miércoles 8 de mayo de 2024 a la 16h00 en el Rooftop de CITEC en Quito en el Edificio Orellana 500 (Av. Orellana y Amazonas). \nEsperamos contar con la presencia.☀️ \n🔼 REGISTRO GRATIS: https://forms.gle/RPnHJh6Cw1oAKN5M7
URL:https://citec.com.ec/eventos/pop-up-tempobox/
ATTACH;FMTTYPE=image/jpeg:https://citec.com.ec/wp-content/uploads/2024/05/WhatsApp-Image-2024-05-06-at-1.58.58-PM.jpeg
END:VEVENT
BEGIN:VEVENT
DTSTART;TZID=UTC:20240508T090000
DTEND;TZID=UTC:20240508T123000
DTSTAMP:20260422T130542
CREATED:20240501T152944Z
LAST-MODIFIED:20240603T224919Z
UID:20096-1715158800-1715171400@citec.com.ec
SUMMARY:Conecta al Foro Empleo
DESCRIPTION:  \nDesde @ftmovistarec te invitamos al Foro Conecta Empleo de América Latina\, donde exploraremos las tendencias más disruptivas\, soluciones innovadoras y estrategias de capacitación que están moldeando el futuro del trabajo en nuestra región.🌎\n👥 ¿Te gustaría formar parte de esta conversación? ¡Inscríbete gratis ahora y sé parte del cambio!  https://d9yw.short.gy/ForoEmpleabilidad \nConoce las sesiones que el foro trae para ti: \n✅ Conferencias Magistrales\n✅ Demo Day\n✅ Keynote \n🗓️ Marca la fecha: ¡8 de mayo de 2024!\nLugar: Ciudad de Guayaquil\, Aula Magna Universidad Católica de Santiago de Guayaquil.\n🏢 Si vives en otra ciudad del país ¡No te preocupes! conéctate a nuestro FB Live o YouTube\n💻Canal de Youtube: https://www.youtube.com/ #FundacionTelefonicaEcuador\n👤Facebook: https://www.facebook.com/FTMovistarEC\n💬 Conoce todos los detalles aquí: https://fundaciontelefonica.com.ec/empleabilidad/foro-conecta-empleo-de-america-latina/
URL:https://citec.com.ec/eventos/conecta-al-foro-empleo/
ATTACH;FMTTYPE=image/png:https://citec.com.ec/wp-content/uploads/2024/05/Captura-de-pantalla-2024-05-01-102606.png
END:VEVENT
BEGIN:VEVENT
DTSTART;TZID=UTC:20240507T183000
DTEND;TZID=UTC:20240507T200000
DTSTAMP:20260422T130542
CREATED:20240501T152539Z
LAST-MODIFIED:20240501T152539Z
UID:20093-1715106600-1715112000@citec.com.ec
SUMMARY:Foro Conecta Empleo
DESCRIPTION:¡Sumérgete en el mundo de la tecnología y la innovación en nuestro próximo After Office! 💻✨ Conoce a expertos\, conecta con profesionales y descubre nuevas oportunidades en un ambiente increíble en el cual nuestra Directora Ejecutiva Gisela Montalvo @giselamontalvo participará como moderadora. ¡No te lo pierdas! \n📅 Fecha: 7 de mayo de 2024 🕒 Hora: 18:30 a 20:00 \nLugar: Impaqto Sede La Carolina\, Quito.\nAv de los Shyris y Suecia edificio IQON \n¡Regístrate ahora y sé parte de esta experiencia única! \n//bit.ly/AfterOfficeFT \nAdemás te invitamos a participar en el Foro Conecta Empleo de América Latina 💬\nhttps://fundaciontelefonica.com.ec/empleabilidad/foro-conecta-empleo-de-america-latina/
URL:https://citec.com.ec/eventos/foro-conecta-empleo/
ATTACH;FMTTYPE=image/png:https://citec.com.ec/wp-content/uploads/2024/05/Captura-de-pantalla-2024-05-01-101916.png
END:VEVENT
BEGIN:VEVENT
DTSTART;TZID=UTC:20240507T100000
DTEND;TZID=UTC:20240507T110000
DTSTAMP:20260422T130542
CREATED:20240507T141834Z
LAST-MODIFIED:20240603T225025Z
UID:20261-1715076000-1715079600@citec.com.ec
SUMMARY:Cultura de innovación como estrategia empresarial para atraer y retener talentos
DESCRIPTION:  \n  \n✅ Te invitamos al webinar de nuestros socios Estay Consulting – Innovación estratégica y proyectos el cual apoyamos. 🙌 \nDescubre el éxito de Parque De La Paz como referente en Cultura de Innovación y marca empleadora en Ecuador. Con Fernando Flores\, Presidente de la compañía\, conoce cómo su enfoque innovador atrae y retiene talento. ✨ \nRegístrate ahora en el enlace de la bio: 👀https://shorturl.at/dsyPS \n#EstayConsulting #rankingc3 #webinar
URL:https://citec.com.ec/eventos/cultura-de-innovacion-como-estrategia-empresarial-para-atraer-y-retener-talentos/
ATTACH;FMTTYPE=image/jpeg:https://citec.com.ec/wp-content/uploads/2024/05/1713975334640.jpeg
END:VEVENT
BEGIN:VEVENT
DTSTART;TZID=UTC:20240507T083000
DTEND;TZID=UTC:20240508T173000
DTSTAMP:20260422T130542
CREATED:20240423T154107Z
LAST-MODIFIED:20240603T225212Z
UID:19819-1715070600-1715189400@citec.com.ec
SUMMARY:Employee Experience Congress
DESCRIPTION:  \n \n  \n¡Descubre el poder de transformar tu cultura empresarial y potenciar la experiencia de tus colaboradores! 🚀 \nÚnete a nosotros en el Employee Experience Congress\, donde las mejores prácticas y estrategias te esperan. ✨ \nContaremos con la participación de nuestra Directora Ejecutiva  y + de 13 speakers internacionales. \nComo miembro CITEC\, disfruta de un descuento exclusivo. 📌 \nReserva tu espacio aquí: https://shorturl.at/MOQV3 \n¡No te lo pierdas! \n#EmployeeExperience #CulturaOrganizacional #ExperienciaDelColaborador#EECongress
URL:https://citec.com.ec/eventos/employee-experience-congress/
ATTACH;FMTTYPE=image/png:https://citec.com.ec/wp-content/uploads/2024/04/AFICHE-EX-MID-POST-V2-CITEC-01-01.png
END:VEVENT
BEGIN:VEVENT
DTSTART;TZID=UTC:20240506T180000
DTEND;TZID=UTC:20240508T210000
DTSTAMP:20260422T130542
CREATED:20240312T151528Z
LAST-MODIFIED:20240603T225422Z
UID:19076-1715018400-1715202000@citec.com.ec
SUMMARY:Workshop Scrum Level Essentials
DESCRIPTION:  \n \n  \n  \nInscríbete en el 𝘌𝘯𝘵𝘳𝘦𝘯𝘢𝘮𝘪𝘦𝘯𝘵𝘰 𝘗𝘳𝘰𝘧𝘦𝘴𝘪𝘰𝘯𝘢𝘭 Scrum Level Essentials. \n\n\nEstaremos compartiendo con nuestra #DuplaDeOro Sandra Mejía J. y Alexis Hidalgo Gallardo. \n\n\nSomos centros oficiales de la prestigiosa Casa Certificadora Internacional Scrum Manager® \n\n\nAprovecha el beneficio del 20% de descuento para los socios CITEC. \n\n\n📌Workshop profesional Scrum Level Essentials: \n\n\n📅06 y 08 de mayo de 18h00 a 21h00 GMT-5 \n\n\nRegístrate en https://forms.gle/5BVggKZPx3Vbvocj6. \n\n\nPuedes comunicarte al +593984874710\, info@ati-consultores. \n\n\n¡𝘛𝘦 𝘦𝘴𝑝𝘦𝘳𝘢𝘮𝘰𝘴! 💙 \n\n🇺🇸🇪🇸\nRespaldo internacional \nConnectAmericas\nScrum Manager\nAgile Alliance\nCertJoin
URL:https://citec.com.ec/eventos/workshop-scrum-level-essentials/
ATTACH;FMTTYPE=image/png:https://citec.com.ec/wp-content/uploads/2024/03/5-1.png
END:VEVENT
BEGIN:VEVENT
DTSTART;TZID=UTC:20240506T040000
DTEND;TZID=UTC:20240506T173000
DTSTAMP:20260422T130542
CREATED:20240506T200042Z
LAST-MODIFIED:20240603T225647Z
UID:20239-1714968000-1715016600@citec.com.ec
SUMMARY:Humanitarian Networks and Partnerships Week
DESCRIPTION:  \n \nNo te pierdas el Humanitarian Networks and Partnerships Week (HNPW) organizado por @unmigration el 6 de mayo! \nEn este evento\, se abordará el papel del emprendimiento local en la creación de soluciones para el desplazamiento y las crisis migratorias. \nNuestra Directora Ejecutiva\, Gisela Montalvo @giselamontalvo \, participará contando la gestión desde CITEC. \n¡Conoce mas aquí! https://bit.ly/3w98JsZ
URL:https://citec.com.ec/eventos/20239/
ATTACH;FMTTYPE=image/png:https://citec.com.ec/wp-content/uploads/2024/05/Captura-de-pantalla-2024-05-06-145853.png
END:VEVENT
BEGIN:VEVENT
DTSTART;VALUE=DATE:20240427
DTEND;VALUE=DATE:20240428
DTSTAMP:20260422T130542
CREATED:20240416T144227Z
LAST-MODIFIED:20240603T225846Z
UID:19704-1714176000-1714262399@citec.com.ec
SUMMARY:Congreso Internacional de Innovación y Transformación Digital
DESCRIPTION:  \n  \n🔴🔴🔴 ¡Portoviejo y Manabí Innova! \n📆El 27 de abril de 2024 el Congreso Internacional de Innovación y Transformación Digital reunirá a los mejores expertos de Latinoamérica. #ITD2024 \n🗣️Conferencias\, talleres\, panel de expertos\, networking y exposición de empresas te esperan. \n¡Impulsa tu negocio\, aprende de los mejores y sé parte del futuro que es ahora! \nLink aqui: https://www.innovalat.org/eventos/CongresoITD2024
URL:https://citec.com.ec/eventos/congreso-internacional-de-innovacion-y-transformacion-digital/
ATTACH;FMTTYPE=image/png:https://citec.com.ec/wp-content/uploads/2024/04/Invitacion.png
END:VEVENT
BEGIN:VEVENT
DTSTART;VALUE=DATE:20240426
DTEND;VALUE=DATE:20240427
DTSTAMP:20260422T130542
CREATED:20240417T213221Z
LAST-MODIFIED:20240603T230216Z
UID:19762-1714089600-1714175999@citec.com.ec
SUMMARY:Innovasteam
DESCRIPTION:  \n \nINNOVASTEAM\nDONDE LA EDUCACIÓN ENCUENTRA LA INNOVACIÓN \n¡No te pierdas la oportunidad de ser parte de este emocionante evento! \nRegístrate: https://www.mybusinessplus.online/event/innovasteam-2024-24/page/introduccion-innova-steam \n📅 Fecha: 26 de abril\n🕒 Hora: 9:00 – 13:00\n🏢 Lugar: Universidad Casa Grande \nLink aquí: https://www.mybusinessplus.online/event/innovasteam-2024-24/page/introduccion-innova-steam \n¡Prepárate para explorar nuevas ideas\, conectar con mentes brillantes y llevar tu creatividad al siguiente nivel! \nAgradecemos a quienes hacen posible este evento @links_ec@mybusiness.plus @soploeducativo @impacttankec @citecec@ucasagrande
URL:https://citec.com.ec/eventos/innovasteam/
ATTACH;FMTTYPE=image/png:https://citec.com.ec/wp-content/uploads/2024/04/Captura-de-pantalla-2024-04-17-a-las-16.29.40.png
END:VEVENT
BEGIN:VEVENT
DTSTART;VALUE=DATE:20240425
DTEND;VALUE=DATE:20240426
DTSTAMP:20260422T130542
CREATED:20240417T213710Z
LAST-MODIFIED:20240603T231229Z
UID:19771-1714003200-1714089599@citec.com.ec
SUMMARY:Replicación de Datas en Tiempo Real para Sistemas Cloud
DESCRIPTION:  \n \n  \n  \nTe invitamos este 25 de Abril al webinar gratuito que nuestros socios Software Products Italia (Softpi) presentan una solución que puede ser de tu interés. \n¡No te lo pierdas! 🚀📚 si deseas obtener más información o registrarte\, visita el enlace: https://lnkd.in/e6TF5z_N 📱🎓
URL:https://citec.com.ec/eventos/replicacion-de-datas-en-tiempo-real-para-sistemas-cloud/
ATTACH;FMTTYPE=image/jpeg:https://citec.com.ec/wp-content/uploads/2024/04/1713201684549.jpeg
END:VEVENT
BEGIN:VEVENT
DTSTART;TZID=UTC:20240422T000000
DTEND;TZID=UTC:20240426T000000
DTSTAMP:20260422T130542
CREATED:20240223T202553Z
LAST-MODIFIED:20240223T203008Z
UID:18849-1713744000-1714089600@citec.com.ec
SUMMARY:Macrorrueda  Colombia
DESCRIPTION:
URL:https://citec.com.ec/eventos/macrorrueda-colombia/
ATTACH;FMTTYPE=image/png:https://citec.com.ec/wp-content/uploads/2024/02/Captura-de-pantalla-2024-02-23-a-las-15.22.50.png
END:VEVENT
BEGIN:VEVENT
DTSTART;TZID=UTC:20240416T000000
DTEND;TZID=UTC:20240419T000000
DTSTAMP:20260422T130542
CREATED:20240223T204912Z
LAST-MODIFIED:20240603T231436Z
UID:18860-1713225600-1713484800@citec.com.ec
SUMMARY:Misión a Miami
DESCRIPTION:  \n  \nLes invitamos a participar en nuestra segunda Misión a Miami la cual incluirá: \n-Agenda Comercial\n-Agenda de Inmersión\n-Participación en e-Merge Americas \nLink aquí: https://forms.gle/a2WuUt1gNRPpwX6HA
URL:https://citec.com.ec/eventos/mision-a-miami/
ATTACH;FMTTYPE=image/png:https://citec.com.ec/wp-content/uploads/2024/02/BOOTCAMP-GIZ-1.png
END:VEVENT
BEGIN:VEVENT
DTSTART;TZID=UTC:20240410T080000
DTEND;TZID=UTC:20240411T170000
DTSTAMP:20260422T130542
CREATED:20240223T201757Z
LAST-MODIFIED:20240603T231709Z
UID:18846-1712736000-1712854800@citec.com.ec
SUMMARY:9° CONGRESO LATINOAMERICANO TECNOLOGÍA Y NEGOCIOS AMERICA DIGITAL 2024
DESCRIPTION:  \n \n  \n10 – 11 Abril · Espacio Riesco\, Santiago de Chile \nRegistrate  aquí: https://forms.gle/a2WuUt1gNRPpwX6HA
URL:https://citec.com.ec/eventos/9-congreso-latinoamericano-tecnologia-y-negocios-america-digital-2024/
ATTACH;FMTTYPE=image/png:https://citec.com.ec/wp-content/uploads/2024/02/Captura-de-pantalla-2024-02-23-a-las-15.15.05.png
END:VEVENT
BEGIN:VEVENT
DTSTART;TZID=UTC:20240408T080000
DTEND;TZID=UTC:20240417T170000
DTSTAMP:20260422T130542
CREATED:20240223T201451Z
LAST-MODIFIED:20240603T231850Z
UID:18843-1712563200-1713373200@citec.com.ec
SUMMARY:Semana de la Innovación y la Transformación 2024
DESCRIPTION:  \n \n  \nLIT (Leadership Innovator Training) está diseñada específicamente para aquellos que desean liderar la innovación en sus organizaciones. Ofrece actividades especializadas centradas en el paradigma TEAL\, que ha demostrado ser crucial para el éxito empresarial en la actualidad. Durante la fase LIT\, los participantes tendrán la oportunidad de visitar 2 empresas exitosas que han duplicado su facturación gracias a su enfoque innovador con TEAL\, así como participar en talleres y conversatorios. diseñados para implementar prácticas innovadoras en sus propias organizaciones. \nLIT se llevará a cabo del 15 al 17 de abril y es el resultado de un proceso exhaustivo de identificación de necesidades en entornos altamente competitivos en innovación\, y que han sido parte de la información levantada de los participantes e interesados en la SIT2024. Creemos firmemente que la innovación no se trata solo de palabras de moda o de seguir tendencias\, sino de adoptar una mentalidad de cambio y adaptación constante. Este programa complementario está diseñado para equipar a los líderes con las herramientas y el conocimiento necesarios para enfrentar con éxito los desafíos del panorama empresarial actual. Se recibirá certificado de Leadership Innovator. \nAdemás\, para aquellos que deseen una experiencia más inmersiva\, y que participen de LIT\, hemos diseñado talleres especializados para grupos de 5 personas o más los días 18 y 19 de abril\, centrados en áreas industriales específicas y temas de interés particulares. \nINFORMACIÓN E INVERSIÓN \nLa inversión del programa LIT\, que es del 15 al 17 de Abril es de USD1920+IVA\, pero se aplica un descuento del 40% como miembro de comunidad CITEC\, quedando en USD$1.150+IVA.  \n– Qué incluye. \n—— Visita a dos empresas que han aplicado el modelo TEAL y han duplicado su facturación\, talleres TEAL\, experiencia Casteller\, y sesiones especializadas de networking y talleres\, y almuerzos y cena el día martes. \n—— Incluye reunión de pre-networking para organizar networking especializado. \n– Qué no incluye: \n—— Pasajes aéreos\, alojamiento en Barcelona\, y trámites de visado. \nLink aqui: https://estay-consulting-23211331.hubspotpagebuilder.com/barcelona-innovation-week-0-0
URL:https://citec.com.ec/eventos/semana-de-la-innovacion-y-la-transformacion-2024/
ATTACH;FMTTYPE=image/png:https://citec.com.ec/wp-content/uploads/2024/02/SIT2024-LIT-3.png
END:VEVENT
BEGIN:VEVENT
DTSTART;TZID=UTC:20240403T090000
DTEND;TZID=UTC:20240403T110000
DTSTAMP:20260422T130542
CREATED:20240401T172929Z
LAST-MODIFIED:20240603T232118Z
UID:19614-1712134800-1712142000@citec.com.ec
SUMMARY:Diálogo Ecuador Tech
DESCRIPTION:  \nTe invitamos a ser parte de esta nueva iniciativa: “Diálogo Ecuador Tech” cuyo objetivo es conectar la Academia con la empresa privada y fomentar sinergias. Es esta primera edición contaremos con: \n– Ma. Luisa Granda Kuffó\, PhD\, Decana de ESPAE\n– Mgtr. Mauro Cáceres\, Gerente General de Global Hitss Ecuador \n🗓️ : Miércoles 03 de abril de 2024\n🕘 : 09h00 a 11:00 am\n📍 : Malecón 100 y Loja\, Campus Las Peñas ESPOL (Guayaquil) \nLink aquí: https://shorturl.at/frCHI \n¡No te pierdas esta oportunidad de diálogo e intercambio en el mundo de la tecnología en Ecuador.
URL:https://citec.com.ec/eventos/dialogo-ecuador-tech/
ATTACH;FMTTYPE=image/png:https://citec.com.ec/wp-content/uploads/2024/04/Captura-de-pantalla-2024-04-01-a-las-12.23.20.png
END:VEVENT
BEGIN:VEVENT
DTSTART;TZID=UTC:20240325T173000
DTEND;TZID=UTC:20240417T200000
DTSTAMP:20260422T130542
CREATED:20240312T150144Z
LAST-MODIFIED:20240603T232543Z
UID:19066-1711387800-1713384000@citec.com.ec
SUMMARY:Doble Certificación Scrum Master
DESCRIPTION:  \n \nInscríbete en el 𝘌𝘯𝘵𝘳𝘦𝘯𝘢𝘮𝘪𝘦𝘯𝘵𝘰 𝘗𝘳𝘰𝘧𝘦𝘴𝘪𝘰𝘯𝘢𝘭 de Doble Certificación Internacional Scrum Master. \n\n\nEstaremos compartiendo con nuestra #DuplaDeOro Sandra Mejía J. y Alexis Hidalgo Gallardo. \n\n\n Somos centros oficiales de la prestigiosa Casa Certificadora Internacional Scrum Manager® \n\n\n 📌Doble certificación internacional Scrum Master: \n\n\n📅25\, 27 de marzo\, 01\, 03\, 08\, 10\, 15\, 17 de abril de 17h30 a 20h00 GMT-5 \n\n\nAprovecha el beneficio del 20% de descuento para los socios CITEC y gana premios por tu registro https://forms.gle/5BVggKZPx3Vbvocj6. \n\n\n🥇 Primer lugar: un cupo 100% gratis para el curso de Scrum Master. \n\n\n🥈 Segundo lugar: un cupo con un 50% de descuento. \n\n\n🥉 Tercer lugar: un cupo con un 30% de descuento. \n\n\nFecha del sorteo: 15 de marzo \n\n\nPuedes comunicarte al +593984874710\, info@ati-consultores. \n\n\n¡𝘛𝘦 𝘦𝘴𝑝𝘦𝘳𝘢𝘮𝘰𝘴! 💙 \n\n🇺🇸🇪🇸\nRespaldo internacional \nConnectAmericas\nScrum Manager\nAgile Alliance\nCertJoin
URL:https://citec.com.ec/eventos/doble-certificacion-scrum-master/
ATTACH;FMTTYPE=image/png:https://citec.com.ec/wp-content/uploads/2024/03/2.png
END:VEVENT
BEGIN:VEVENT
DTSTART;TZID=UTC:20240320T080000
DTEND;TZID=UTC:20240322T170000
DTSTAMP:20260422T130542
CREATED:20240223T200955Z
LAST-MODIFIED:20240604T150134Z
UID:18840-1710921600-1711126800@citec.com.ec
SUMMARY:South Summit  Brasil
DESCRIPTION:Punto de encuentro global entre inversores\, empresas y startups.\n🚀 Próxima edición: 20\, 21 y 22 de marzo de 2024!\nLink aqui: https://www.southsummit.io/pt/brazil/tickets/?utm_source=trk-google-ads&utm_medium=search&utm_campaign=g_p_pc_ingressosbrasil&gad_source=1&gclid=CjwKCAiA29auBhBxEiwAnKcSqt09ZL5Bp5vgSSWWb2g8wyq_b-55v0MIIpxBSdXKPtbRTrFIWdQUfRoCBVwQAvD_BwE
URL:https://citec.com.ec/eventos/south-summit-brasil/
ATTACH;FMTTYPE=image/png:https://citec.com.ec/wp-content/uploads/2024/02/Captura-de-pantalla-2024-02-23-a-las-15.06.20.png
END:VEVENT
BEGIN:VEVENT
DTSTART;TZID=UTC:20240319T080000
DTEND;TZID=UTC:20240418T170000
DTSTAMP:20260422T130542
CREATED:20240314T220359Z
LAST-MODIFIED:20240604T150534Z
UID:19086-1710835200-1713459600@citec.com.ec
SUMMARY:Curso - Ley de Protección de Datos Personales
DESCRIPTION:  \n  \n \n  \n  \nÚnete a nuestro curso y domina la Ley de Protección de Datos Personales🔒 Adquiere herramientas clave y asegura\nla privacidad de los datos! 🌐🛡️ \nFecha de inicio: 19 de marzo 2024 \nFecha de fin: 18 de abril 2024 \nHorario: 8h00 a 10h00 (GTM-5-Quito\,Bogotá\,Lima) \nFrecuencia de días: martes\, miércoles y jueves \n¡Solicita información 👉  http://tinyurl.com/ProteccionDatosP
URL:https://citec.com.ec/eventos/curso-ley-de-proteccion-de-datos-personales/
ATTACH;FMTTYPE=image/png:https://citec.com.ec/wp-content/uploads/2024/03/01-Proteccion-datos-CITEC-Post.png
END:VEVENT
BEGIN:VEVENT
DTSTART;TZID=UTC:20240318T080000
DTEND;TZID=UTC:20240322T170000
DTSTAMP:20260422T130542
CREATED:20240223T195522Z
LAST-MODIFIED:20240604T150753Z
UID:18837-1710748800-1711126800@citec.com.ec
SUMMARY:Programa de inmersión Curitiba 2024
DESCRIPTION:  \n \n✈️🇧🇷VIAJÁ A CURITIBA CON NOSOTROS \nConocé el ecosistema #smartcity en nuestro Programa de Inmersión Técnica. \n¿Cuándo? Del 18 al 22 de marzo. \n¿En qué consiste el programa?\n✔ Visitas técnicas e institucionales exclusivas a organismos públicos y empresas de referencia.\n✔Actividades de networking. Vinculación con decisores\, organismos\, empresas\, startups\, cámaras comerciales y consulados.\n✔Acceso a Smart City Expo Curitiba y a la Feria de Destinos Turísticos Inteligentes\n✔Curaduría personalizada; guía y facilitación de reuniones en español. \n¿Qué esperas para sumarte? Mandanos un mensaje privado y respondemos tus consultas. \n#smartcities #trendsmartcities
URL:https://citec.com.ec/eventos/programa-de-inmersion-curitiba-2024/
ATTACH;FMTTYPE=image/png:https://citec.com.ec/wp-content/uploads/2024/02/Captura-de-pantalla-2024-02-23-a-las-14.54.41.png
END:VEVENT
BEGIN:VEVENT
DTSTART;TZID=UTC:20240312T170000
DTEND;TZID=UTC:20240312T170000
DTSTAMP:20260422T130542
CREATED:20240304T212538Z
LAST-MODIFIED:20240604T150942Z
UID:19026-1710262800-1710262800@citec.com.ec
SUMMARY:Sesión Informativa - Sumat Expo
DESCRIPTION:  \n \n  \n  \n¡No te pierdas esta sesión informativa y aprovecha todos los detalles del @sumat.expo ! 🙌 \nNo dejes pasar la oportunidad. 🚀
URL:https://citec.com.ec/eventos/sesion-informativa-sumat-expo/
ATTACH;FMTTYPE=image/jpeg:https://citec.com.ec/wp-content/uploads/2024/03/430389078_1115826919867498_1753007055204151118_n.jpg
END:VEVENT
BEGIN:VEVENT
DTSTART;TZID=UTC:20240311T080000
DTEND;TZID=UTC:20240312T170000
DTSTAMP:20260422T130542
CREATED:20240305T203959Z
LAST-MODIFIED:20240604T151604Z
UID:19048-1710144000-1710262800@citec.com.ec
SUMMARY:Feria de empleabilidad
DESCRIPTION:  \n \n✅ Estamos emocionados de contarles que en conjunto con @oimecuador y @viamatica hemos formado nuevo talento digital en ventas de servicios tecnológicos💻✨ \n🔎Si tu empresa está en busca de talento digital regístrense y participen de nuestra feria de empleabilidad virtual en el horario que mejor se acople a su disponibilidad.⏰ \n¡Contamos con ustedes para fortalecer el ecosistema!🌐
URL:https://citec.com.ec/eventos/feria-de-empleabilidad-2/
ATTACH;FMTTYPE=image/png:https://citec.com.ec/wp-content/uploads/2024/03/Captura-de-pantalla-2024-03-05-a-las-15.38.29.png
END:VEVENT
BEGIN:VEVENT
DTSTART;TZID=UTC:20240305T080000
DTEND;TZID=UTC:20240305T170000
DTSTAMP:20260422T130542
CREATED:20240305T202000Z
LAST-MODIFIED:20240305T202000Z
UID:19037-1709625600-1709658000@citec.com.ec
SUMMARY:11º Premios #LatamDigital 2024-República Dominicana
DESCRIPTION:
URL:https://citec.com.ec/eventos/11o-premios-latamdigital-2024-republica-dominicana/
ATTACH;FMTTYPE=image/jpeg:https://citec.com.ec/wp-content/uploads/2024/03/Lanzamiento-11.Premios-LatamDigital-2024-by-Interlat-Republica-Dominicana-3.jpg
END:VEVENT
BEGIN:VEVENT
DTSTART;TZID=UTC:20240229T170000
DTEND;TZID=UTC:20240229T180000
DTSTAMP:20260422T130542
CREATED:20240223T192726Z
LAST-MODIFIED:20240604T151853Z
UID:18829-1709226000-1709229600@citec.com.ec
SUMMARY:CITECh Talks Febrero
DESCRIPTION:  \n♦️CITECh Talks Febrero♦️junto con @clusterfinancieroec \, @insurehero \, #MONNET . \n👉 TEMA DEL MES: Ecosistema Financiero Digital: Rumbo al Futuro Fintech Ecuatoriano \n🗓FECHA: Jueves\, 29 de febrero de 2024. \n⏱HORA: 17h00 \n🖊REGISTRO:\nhttps://bit.ly/CTFebrero2024 \nCon el apoyo de: @uhe.oficial @krugercorp @onducloud@security.data @uanataca_ec
URL:https://citec.com.ec/eventos/citech-talks-febrero/
ATTACH;FMTTYPE=image/jpeg:https://citec.com.ec/wp-content/uploads/2024/02/CITECh-Talks-2.jpg
END:VEVENT
BEGIN:VEVENT
DTSTART;TZID=UTC:20240229T090000
DTEND;TZID=UTC:20240301T150000
DTSTAMP:20260422T130542
CREATED:20240223T192940Z
LAST-MODIFIED:20240604T152030Z
UID:18831-1709197200-1709305200@citec.com.ec
SUMMARY:Feria de empleabilidad
DESCRIPTION:  \n \n  \n✅ Estamos emocionados de contarles que en conjunto con @oimecuador y @viamatica hemos formado nuevo talento digital en Data Analytics.💻✨ \n🔎Sí están buscando talento\, regístrense y participen de nuestra feria de empleabilidad virtual en el horario que mejor se acople a su disponibilidad.⏰ \n¡Contamos con ustedes para fortalecer el ecosistema!🌐 \nRegístrate aquí :👉 https://shorturl.at/hqGWZ \n🔶¡CUPOS ILIMITADOS! 👀
URL:https://citec.com.ec/eventos/feria-de-empleabilidad/
ATTACH;FMTTYPE=image/png:https://citec.com.ec/wp-content/uploads/2024/02/Captura-de-pantalla-2024-02-23-a-las-14.31.55.png
END:VEVENT
BEGIN:VEVENT
DTSTART;TZID=UTC:20240228T000000
DTEND;TZID=UTC:20240229T000000
DTSTAMP:20260422T130542
CREATED:20240223T192501Z
LAST-MODIFIED:20240604T152202Z
UID:18827-1709078400-1709164800@citec.com.ec
SUMMARY:SoftdayEcuador
DESCRIPTION:  \n \nAtención empresas ecuatorianas\n¡El SoftDay está de vuelta para llevar tu empresa al siguiente nivel! 🌐 Este evento\, online y gratuito\, está diseñado para empresas en Ecuador que buscan explorar nuevas fronteras en la innovación tecnológica. \n¿Qué te espera en el SoftDay Ecuador?\n🗣️ 8 Conferencias de Profesionales: Expertos de la industria compartirán conocimientos clave para potenciar tus procesos y mejorar la rentabilidad de tu empresa. \n🤝 +300 Participantes: Conecta con una red diversa de profesionales\, líderes empresariales y mentes innovadoras que comparten tu pasión por el crecimiento. \n🚀 Últimas Tendencias Tecnológicas en Ecuador: Descubre las herramientas más avanzadas que pueden ayudarte a simplificar y revolucionar tu trabajo diario. \nNo te pierdas la oportunidad de impulsar tu empresa con las últimas tendencias tecnológicas.
URL:https://citec.com.ec/eventos/softdayecuador/
ATTACH;FMTTYPE=image/png:https://citec.com.ec/wp-content/uploads/2024/02/Captura-de-pantalla-2024-02-23-a-las-14.33.19.png
END:VEVENT
BEGIN:VEVENT
DTSTART;TZID=UTC:20240205T080000
DTEND;TZID=UTC:20240310T170000
DTSTAMP:20260422T130542
CREATED:20240305T203819Z
LAST-MODIFIED:20240603T212936Z
UID:19045-1707120000-1710090000@citec.com.ec
SUMMARY:Emprende TECH AEI Boost 2024
DESCRIPTION:  \n  \n \n🌐 ¿Tienes una startup en agrotech\, e-commerce/logística o fintech? ¡Únete a la convocatoria que seleccionará y potenciará a las startups más innovadoras del país!\nParticipa y podrás acceder a mentorías especializadas\, fondos de inversión\, conexiones regionales y más. 🚀
URL:https://citec.com.ec/eventos/emprende-tech-aei-boost-2024/
ATTACH;FMTTYPE=image/png:https://citec.com.ec/wp-content/uploads/2024/03/Captura-de-pantalla-2024-03-05-a-las-15.36.02.png
END:VEVENT
END:VCALENDAR