BEGIN:VCALENDAR
VERSION:2.0
PRODID:-//CITEC - ECPv6.5.1.6//NONSGML v1.0//EN
CALSCALE:GREGORIAN
METHOD:PUBLISH
X-WR-CALNAME:CITEC
X-ORIGINAL-URL:https://citec.com.ec
X-WR-CALDESC:Eventos para CITEC
REFRESH-INTERVAL;VALUE=DURATION:PT1H
X-Robots-Tag:noindex
X-PUBLISHED-TTL:PT1H
BEGIN:VTIMEZONE
TZID:UTC
BEGIN:STANDARD
TZOFFSETFROM:+0000
TZOFFSETTO:+0000
TZNAME:UTC
DTSTART:20250101T000000
END:STANDARD
END:VTIMEZONE
BEGIN:VEVENT
DTSTART;VALUE=DATE:20250401
DTEND;VALUE=DATE:20250801
DTSTAMP:20260421T084906
CREATED:20250403T154216Z
LAST-MODIFIED:20250403T154502Z
UID:23178-1743465600-1754006399@citec.com.ec
SUMMARY:¡Transformemos escuelas juntos!
DESCRIPTION:Innovación y educación: un compromiso con el futuro \nEn CITEC\, creemos que la tecnología y la educación son pilares clave para el desarrollo del país. Por eso\, nos unimos a esta iniciativa de nuestro socio Tipti S.A. y aliados Unidos por la Educación \, con el propósito de mejorar la infraestructura y oportunidades de aprendizaje en escuelas públicas de Ecuador. 🎒📚 \nTu donación hará la diferencia en la vida de miles de niños y jóvenes\, impactando instituciones como el Colegio Leonardo Maldonado en Puembo\, Quito\, y las Escuelas Luis Cordero y Juan Peñafiel en Cuenca. 💛🧡 \nCada aporte suma. Apostemos por la educación\, apostemos por un futuro más innovador. 🏫🚀 \n👉 Dona a través de la plataforma de Tipti S.A. a domicilio y sé parte del cambio. \n📲 ¿Aún no tienes la app? Descárgala\, crea tu usuario y apoya a Unidos por la Educación. \nANDROID Y MAC
URL:https://citec.com.ec/eventos/transformemos-escuelas-juntos/
ATTACH;FMTTYPE=image/png:https://citec.com.ec/wp-content/uploads/2025/04/Post-Instagram-4.png
END:VEVENT
BEGIN:VEVENT
DTSTART;VALUE=DATE:20250501
DTEND;VALUE=DATE:20250601
DTSTAMP:20260421T084906
CREATED:20250604T174215Z
LAST-MODIFIED:20250604T174215Z
UID:23491-1746057600-1748735999@citec.com.ec
SUMMARY:¿Cómo entender mejor la equidad de género en 40 horas?
DESCRIPTION:Nuestro aliado @grupolilaec ha creado el programa perfecto para cumplir con la Ley para la Igualdad Salarial\, fortaleciendo además a los colaboradores y potenciando la visión de toda la organización. \n👉 El programa incluye:\n✔ 40 horas\n✔ 4 módulos\n✔ 10 speakers\n✔ Certificación \n💻 Modalidad asincrónica y 100% online.\n📲 Más información al: 099 291 8517. \n#GrupoLILA #Economía #IgualdadDeGénero #EquidadLaboral#InclusiónEconómica #Empresas #Emprendimiento#VisiónEmpresarial
URL:https://citec.com.ec/eventos/como-entender-mejor-la-equidad-de-genero-en-40-horas/
ATTACH;FMTTYPE=image/png:https://citec.com.ec/wp-content/uploads/2025/06/593-99-291-8517.png
END:VEVENT
BEGIN:VEVENT
DTSTART;VALUE=DATE:20250503
DTEND;VALUE=DATE:20250505
DTSTAMP:20260421T084906
CREATED:20250421T110252Z
LAST-MODIFIED:20250421T110252Z
UID:23222-1746230400-1746403199@citec.com.ec
SUMMARY:Curso de Producción Audiovisual asistido con Inteligencia Artificial
DESCRIPTION:🎬✨ ¡Lleva tu contenido al siguiente nivel con IA! \nSi eres principiante o entusiasta de la creación de contenido\, este curso es para ti: \nCurso de Producción Audiovisual asistido con Inteligencia Artificial \n📅 Disponible con 40% de descuento hasta el 23 de abril exclusivo para socios CITEC. \n👥 Además\, si se inscriben en grupo (10 o más)\, acceden a un 50% de descuento. \n💡 Incluye dos charlas imperdibles: 🔹 Con el founder de ImagineApp\, plataforma de creación de imágenes y video. \n🔹 Con Gabriela Tagliavini\, directora y guionista de cine y TV (Netflix\, Prime\, Max). \n👉 Ideal para marcas personales\, empresas\, emprendedores y creadores. \n🎟️ Costo original: $4000 MXN (~$200 USD) \nNo dejes pasar esta oportunidad. \nConoce más aquí: https://chainlatam.tech/curso-produccion-ia
URL:https://citec.com.ec/eventos/curso-de-produccion-audiovisual-asistido-con-inteligencia-artificial/
ATTACH;FMTTYPE=image/png:https://citec.com.ec/wp-content/uploads/2025/04/ChainStudio-Curso-Invite-Cuadrado-Citec.png
END:VEVENT
BEGIN:VEVENT
DTSTART;VALUE=DATE:20250507
DTEND;VALUE=DATE:20250508
DTSTAMP:20260421T084906
CREATED:20250429T192143Z
LAST-MODIFIED:20250429T192143Z
UID:23237-1746576000-1746662399@citec.com.ec
SUMMARY:IA Agents + WhatsApp: La combinación perfecta para aumentar conversiones
DESCRIPTION:🚀 Webinar en conjunto con nuestros socios @nextgenec \nIA Agents + WhatsApp: La combinación perfecta para aumentar conversiones \nDescubre cómo automatizar\, escalar y convertir más con la dupla más poderosa del marketing conversacional. \n🗓 7 de mayo | 11:00 AM (EC)\n📲 ¡Cupo limitado\, regístrate ya!\n👉 webinar.atomchat.io/ia-agents-whatsapp-aumentar-conversiones
URL:https://citec.com.ec/eventos/ia-agents-whatsapp-la-combinacion-perfecta-para-aumentar-conversiones/
END:VEVENT
BEGIN:VEVENT
DTSTART;VALUE=DATE:20250507
DTEND;VALUE=DATE:20250508
DTSTAMP:20260421T084906
CREATED:20250506T151502Z
LAST-MODIFIED:20250506T151502Z
UID:23326-1746576000-1746662399@citec.com.ec
SUMMARY:Space Day: The New Era
DESCRIPTION:  \n🛰️✨ ¡Conoce la agenda de Space Day: The New Era!\nPrepárate para un día lleno de descubrimientos\, innovación y speakers que están transformando el futuro del espacio 🚀🌌 \n🔭 Charlas con keynote speakers\,\n🔬 Paneles de expertos\,\n🤝 Networking con líderes de la industria\, \n📅 7 de mayo\n🕙 De 10h00 a 18h00\n📍 Teatro Calderón de la Barca – USFQ \nRegístrate aquí: https://shorturl.at/CUcgf
URL:https://citec.com.ec/eventos/space-day-the-new-era/
ATTACH;FMTTYPE=image/png:https://citec.com.ec/wp-content/uploads/2025/05/Post-portada-1950.png
END:VEVENT
BEGIN:VEVENT
DTSTART;VALUE=DATE:20250507
DTEND;VALUE=DATE:20250508
DTSTAMP:20260421T084906
CREATED:20250507T171819Z
LAST-MODIFIED:20250507T171819Z
UID:23332-1746576000-1746662399@citec.com.ec
SUMMARY:Ley de Igualdad Salarial 2025
DESCRIPTION:📢 Cumplir con las 40 horas de capacitación en equidad salarial es más fácil de lo que crees. Aquí tienes la solución. \nEste miércoles 7 de mayo a las 9:00 AM\, descubre en un webinar gratuito la nueva propuesta de capacitación 100% online y flexible\, diseñada para ayudarte a cumplir con la Ley de Igualdad Salarial 2025 sin complicaciones. \n📍 Microsoft Teams \n🕘 9:00 AM \n📅 Miércoles 7 de mayo \n🔗 Inscríbete aquí: https://events.teams.microsoft.com/event/50780c87-877e-4844-a02b-68021cf95428@3c49b111-19db-458d-83ff-1af0ac9ae35b
URL:https://citec.com.ec/eventos/ley-de-igualdad-salarial-2025/
ATTACH;FMTTYPE=image/png:https://citec.com.ec/wp-content/uploads/2025/05/WEBINAR-40-HORAS-3.png
END:VEVENT
BEGIN:VEVENT
DTSTART;VALUE=DATE:20250508
DTEND;VALUE=DATE:20250509
DTSTAMP:20260421T084906
CREATED:20250507T143251Z
LAST-MODIFIED:20250507T143251Z
UID:23329-1746662400-1746748799@citec.com.ec
SUMMARY:III Congreso de Transformación Digital – Marketing y Operaciones 6.0
DESCRIPTION:¡No te pierdas la  Feria de Tecnología e IoT en el III Congreso de Transformación Digital – Marketing y Operaciones 6.0!\n\n\n𝗘𝗻𝘁𝗿𝗮𝗱𝗮 𝗹𝗶𝗯𝗿𝗲 𝗮 𝗽𝗮𝗿𝘁𝗶𝗿 𝗱𝗲 𝗹𝗮𝘀 𝟏𝟬𝗵𝟬𝟬 *Exclusivamente al espacio feria (*No incluye entrada a conferencias y planes de alimentación).\n\n\nFECHA: 𝟴 𝗗𝗘 𝗠𝗔𝗬𝗢\nLUGAR: CENTRO DE CONVENCIONES MALL DEL RÍO\nUn evento organizado por #Expressarte y Cámara de Industrias\, Producción y Empleo – CIPEM – Con el apoyo de Mucho Mejor Ecuador – #CITEC y #CIPT\n\n\n¡Más información en el siguiente enlace: www.congresotdecuador.com!
URL:https://citec.com.ec/eventos/iii-congreso-de-transformacion-digital-marketing-y-operaciones-6-0/
ATTACH;FMTTYPE=image/jpeg:https://citec.com.ec/wp-content/uploads/2025/05/¡No-te-pierdas-la-𝗙𝗘𝗥𝗜𝗔-𝗗𝗘-𝗧𝗘𝗖𝗡𝗢𝗟𝗢𝗚I𝗔-𝗬-𝗜𝗼𝗧-en-el-III-CONGRESO-DE-TRANSFORMACION-DIGITAL-MARKETING-Y-OPERACIONES-6.0-𝗘𝗻𝘁𝗿𝗮𝗱𝗮-𝗹𝗶𝗯𝗿𝗲-.jpg
END:VEVENT
BEGIN:VEVENT
DTSTART;VALUE=DATE:20250513
DTEND;VALUE=DATE:20250611
DTSTAMP:20260421T084906
CREATED:20250519T160828Z
LAST-MODIFIED:20250519T162930Z
UID:23441-1747094400-1749599999@citec.com.ec
SUMMARY:Programa de Formación en Inteligencia Artificial
DESCRIPTION:https://citec.com.ec/wp-content/uploads/2025/05/VIDEO-IA.mp4\n🤿 Programa de Formación en Inteligencia Artificial: De la Superficie a las Profundidades 🤿 \n🚀 Domina la IA desde sus fundamentos hasta aplicaciones avanzadas \nEl programa está compuesto por dos cursos\, los cuales puedes tomar por separado o de manera conjunta. Si decides inscribirte en ambos\, accederás a un descuento del 15%. \nCurso 1 \n📅 Inicio: 13 de mayo de 2025 \n⏳ Duración: 24 horas \n📍 Modalidad: 100% online \n🎯 Objetivos Específicos \n✅ Optimiza tareas diarias con herramientas accesibles de IA. \n✅ Personaliza contenido y mejora decisiones con análisis de datos. \n✅ Entrena modelos de IA aplicados a tu negocio. \n✅ Crea asistentes virtuales y chatbots para mejorar la atención al cliente. \n  \nCurso 2 \n📅 Inicio: 10 de Junio del 2025 \n⏳ Duración: 24 horas \n📍 Modalidad: 100% online \n🎯 Objetivos Específicos \n✅ Aprende a utilizar frameworks de código abierto\, modelos multimodales y enjambres de agentes. \n✅ Descubre cómo implementar soluciones autónomas con modelos personalizados y arquitecturas inteligentes. \n  \nPara más información\, contáctame. Dar click Aquí
URL:https://citec.com.ec/eventos/23441/
ATTACH;FMTTYPE=image/png:https://citec.com.ec/wp-content/uploads/2025/05/Captura-de-pantalla-2025-05-19-a-las-11.07.08 a.-m.png
END:VEVENT
BEGIN:VEVENT
DTSTART;VALUE=DATE:20250520
DTEND;VALUE=DATE:20250522
DTSTAMP:20260421T084906
CREATED:20250403T155018Z
LAST-MODIFIED:20250414T205439Z
UID:23182-1747699200-1747871999@citec.com.ec
SUMMARY:Web Congress 2025
DESCRIPTION:https://citec.com.ec/wp-content/uploads/2025/04/Video-final-WC-consideration-2025.mp4\n🌍✨ ¡Sé parte de esta experiencia única! \nConéctate y aprende de las mentes más brillantes de las empresas más innovadoras del mundo. 🚀 \n📅 20 y 21 de mayo📍 Quito – Paseo San Francisco\, Cumbayá🎟️ Tickets: https://bit.ly/WebCongress2025 \n🔹 Socios CITEC 25% OFF🏷️ Código: FutureReadyWC25 \n¡No te lo pierdas! 🔥 #WebCongress2025
URL:https://citec.com.ec/eventos/web-congress-2025/
ATTACH;FMTTYPE=image/png:https://citec.com.ec/wp-content/uploads/2025/04/Captura-de-pantalla-2025-04-03-a-las-10.48.51 a.-m.png
END:VEVENT
BEGIN:VEVENT
DTSTART;VALUE=DATE:20250520
DTEND;VALUE=DATE:20250522
DTSTAMP:20260421T084906
CREATED:20250519T150935Z
LAST-MODIFIED:20250519T150935Z
UID:23433-1747699200-1747871999@citec.com.ec
SUMMARY:WEBCONGRESS
DESCRIPTION:⏳ ¡La cuenta regresiva ya empezó! \nEste 20 y 21 de mayo\, nuestra Directora Ejecutiva gisela montalvo participará en WEBCONGRESS Ecuador 2025\, el evento que reúne a líderes en innovación y marketing digital bajo el lema Future Ready. \n🚀 Más de 30 expertos de marcas líderes\, +1000 asistentes y una agenda para transformar tu visión del futuro. \n📍Quorum Quito\n🔗 Más información en: webcongress.com/ecuador
URL:https://citec.com.ec/eventos/webcongress-3/
ATTACH;FMTTYPE=image/png:https://citec.com.ec/wp-content/uploads/2025/05/42.png
END:VEVENT
BEGIN:VEVENT
DTSTART;VALUE=DATE:20250522
DTEND;VALUE=DATE:20250523
DTSTAMP:20260421T084906
CREATED:20250515T235814Z
LAST-MODIFIED:20250515T235814Z
UID:23339-1747872000-1747958399@citec.com.ec
SUMMARY:Lo que te estas perdiendo de Microsoft 365.
DESCRIPTION:  \n📢 ¡Te invitamos al Webinar Gratuito de nuestros socios @smarthelpit ! Lo que te estas perdiendo de Microsoft 365. \nDescubre todo lo que Microsoft 365 tiene para ofrecerte.\nEs mucho más que solo correo y chat: en este webinar conocerás en vivo las herramientas clave que pueden\ntransformar tu forma de trabajar y ayudarte a sacar el máximo provecho de tu suscripción. \nPodrás ver un recorrido práctico y en tiempo real por las funcionalidades más potentes de Microsoft 365\, guiado por un experto en la plataforma. \n🎙 Orador:\nMgs. Steven Flores\nEspecialista en Sistemas de Gestión de Seguridad de la Información (SGSI) y Experto en Microsoft 365. \n🗓 Fecha: jueves\, 22 de mayo\n🕚 Hora: 11:30 a.m. (Ecuador)\n💻 Plataforma: Microsoft Teams \n¡No te lo pierdas! Regístrate aquí: https://shorturl.at/9zxhy
URL:https://citec.com.ec/eventos/lo-que-te-estas-perdiendo-de-microsoft-365/
ATTACH;FMTTYPE=image/jpeg:https://citec.com.ec/wp-content/uploads/2025/05/Imagen-de-WhatsApp-2025-05-13-a-las-07.39.37_1f5e6ef1.jpg
END:VEVENT
BEGIN:VEVENT
DTSTART;VALUE=DATE:20250527
DTEND;VALUE=DATE:20250530
DTSTAMP:20260421T084906
CREATED:20250526T173800Z
LAST-MODIFIED:20250526T173800Z
UID:23465-1748304000-1748563199@citec.com.ec
SUMMARY:Lleva tu estrategia al siguiente nivel
DESCRIPTION:🎯 ¡Lleva tu estrategia comercial al siguiente nivel junto a nuestros aliados ASEDIM Ecuador ! 🧠\n\n\n\n\n\nJunto a Fernando Hernández y Tania Acosta\, conecta con tus clientes\, domina la contratación pública y potencia tus resultados en el sector salud. 🏥\n\n\n\n\n\nEntérate de todos los detalles en nuestro video. 👀 \n\n\n\n\n\n⬇ ¡Inscríbete en el siguiente link!\n\n\nhttps://bit.ly/VentasyNeuroventasQuito2025\n\n\n\n\n\nPara más detalles:\n\n\n📧 administrativo@asedim.com\n\n\n📱 099 490 1373
URL:https://citec.com.ec/eventos/lleva-tu-estrategia-al-siguiente-nivel/
ATTACH;FMTTYPE=image/png:https://citec.com.ec/wp-content/uploads/2025/05/Con-el-apoyo-de.png
END:VEVENT
BEGIN:VEVENT
DTSTART;TZID=UTC:20250528T160000
DTEND;TZID=UTC:20250528T170000
DTSTAMP:20260421T084906
CREATED:20250521T222818Z
LAST-MODIFIED:20250521T222818Z
UID:23459-1748448000-1748451600@citec.com.ec
SUMMARY:CITECh Talks Mayo 2025
DESCRIPTION:♦️CITECh Talks Mayo 2025♦️junto con Alfanet Ecuador \, Spingarn® \, SAGGA \n👉 TEMA DEL MES:\nLa Estrategia Empresarial como Motor de Transformación \n📆 FECHA: miércoles 28 de mayo 2025 \n🕛 HORA: 16h00 \n🖊REGISTRO: \nhttps://lnkd.in/dH_7UiYy \nCon el apoyo de: \nAKROS Soluciones Tecnológicas\, Bridgetech | Alfresco\, Dátil \, Movistar Empresas | Ecuador \, Todo Legal \, World \, Uanataca Ecuador \, Universidad Hemisferios \, Kyrios \, Ondú Cloud\, Spingarn® \nAndres Narvaez Diego Caicedo Lescano Daniela Flores P.
URL:https://citec.com.ec/eventos/citech-talks-mayo-2025/
ATTACH;FMTTYPE=image/png:https://citec.com.ec/wp-content/uploads/2025/05/CITECh-Talks.png
END:VEVENT
END:VCALENDAR