BEGIN:VCALENDAR
VERSION:2.0
PRODID:-//CITEC - ECPv6.5.1.6//NONSGML v1.0//EN
CALSCALE:GREGORIAN
METHOD:PUBLISH
X-WR-CALNAME:CITEC
X-ORIGINAL-URL:https://citec.com.ec
X-WR-CALDESC:Eventos para CITEC
REFRESH-INTERVAL;VALUE=DURATION:PT1H
X-Robots-Tag:noindex
X-PUBLISHED-TTL:PT1H
BEGIN:VTIMEZONE
TZID:UTC
BEGIN:STANDARD
TZOFFSETFROM:+0000
TZOFFSETTO:+0000
TZNAME:UTC
DTSTART:20250101T000000
END:STANDARD
END:VTIMEZONE
BEGIN:VEVENT
DTSTART;VALUE=DATE:20250401
DTEND;VALUE=DATE:20250801
DTSTAMP:20260421T102615
CREATED:20250403T154216Z
LAST-MODIFIED:20250403T154502Z
UID:23178-1743465600-1754006399@citec.com.ec
SUMMARY:¡Transformemos escuelas juntos!
DESCRIPTION:Innovación y educación: un compromiso con el futuro \nEn CITEC\, creemos que la tecnología y la educación son pilares clave para el desarrollo del país. Por eso\, nos unimos a esta iniciativa de nuestro socio Tipti S.A. y aliados Unidos por la Educación \, con el propósito de mejorar la infraestructura y oportunidades de aprendizaje en escuelas públicas de Ecuador. 🎒📚 \nTu donación hará la diferencia en la vida de miles de niños y jóvenes\, impactando instituciones como el Colegio Leonardo Maldonado en Puembo\, Quito\, y las Escuelas Luis Cordero y Juan Peñafiel en Cuenca. 💛🧡 \nCada aporte suma. Apostemos por la educación\, apostemos por un futuro más innovador. 🏫🚀 \n👉 Dona a través de la plataforma de Tipti S.A. a domicilio y sé parte del cambio. \n📲 ¿Aún no tienes la app? Descárgala\, crea tu usuario y apoya a Unidos por la Educación. \nANDROID Y MAC
URL:https://citec.com.ec/eventos/transformemos-escuelas-juntos/
ATTACH;FMTTYPE=image/png:https://citec.com.ec/wp-content/uploads/2025/04/Post-Instagram-4.png
END:VEVENT
BEGIN:VEVENT
DTSTART;VALUE=DATE:20250513
DTEND;VALUE=DATE:20250611
DTSTAMP:20260421T102615
CREATED:20250519T160828Z
LAST-MODIFIED:20250519T162930Z
UID:23441-1747094400-1749599999@citec.com.ec
SUMMARY:Programa de Formación en Inteligencia Artificial
DESCRIPTION:https://citec.com.ec/wp-content/uploads/2025/05/VIDEO-IA.mp4\n🤿 Programa de Formación en Inteligencia Artificial: De la Superficie a las Profundidades 🤿 \n🚀 Domina la IA desde sus fundamentos hasta aplicaciones avanzadas \nEl programa está compuesto por dos cursos\, los cuales puedes tomar por separado o de manera conjunta. Si decides inscribirte en ambos\, accederás a un descuento del 15%. \nCurso 1 \n📅 Inicio: 13 de mayo de 2025 \n⏳ Duración: 24 horas \n📍 Modalidad: 100% online \n🎯 Objetivos Específicos \n✅ Optimiza tareas diarias con herramientas accesibles de IA. \n✅ Personaliza contenido y mejora decisiones con análisis de datos. \n✅ Entrena modelos de IA aplicados a tu negocio. \n✅ Crea asistentes virtuales y chatbots para mejorar la atención al cliente. \n  \nCurso 2 \n📅 Inicio: 10 de Junio del 2025 \n⏳ Duración: 24 horas \n📍 Modalidad: 100% online \n🎯 Objetivos Específicos \n✅ Aprende a utilizar frameworks de código abierto\, modelos multimodales y enjambres de agentes. \n✅ Descubre cómo implementar soluciones autónomas con modelos personalizados y arquitecturas inteligentes. \n  \nPara más información\, contáctame. Dar click Aquí
URL:https://citec.com.ec/eventos/23441/
ATTACH;FMTTYPE=image/png:https://citec.com.ec/wp-content/uploads/2025/05/Captura-de-pantalla-2025-05-19-a-las-11.07.08 a.-m.png
END:VEVENT
BEGIN:VEVENT
DTSTART;VALUE=DATE:20250609
DTEND;VALUE=DATE:20250613
DTSTAMP:20260421T102615
CREATED:20250604T174538Z
LAST-MODIFIED:20250604T174806Z
UID:23494-1749427200-1749772799@citec.com.ec
SUMMARY:II Semana de la Inteligencia Artificial y Ciberseguridad
DESCRIPTION:🎓 ¡Postula a una beca para la Semana de Inteligencia Artificial y Ciberseguridad 2025! \nEn esta edición ofrecemos 40 becas del 100% para cada ciudad: Quito\, Guayaquil y Cuenca. \n📌 Quito: 09 de junio – Salón Appenzell\, Swissôtel Quito\n📌 Guayaquil: 11 de junio – Salón Luis Noboa\, Universidad Espíritu Santo\n📌 Cuenca: 12 de junio – Auditorio\, CIPEM – Cámara de Industrias Producción y Empleo  \n🙌 Una oportunidad única para capacitarte con expertos nacionales e internacionales y adquirir herramientas prácticas que te permitirán liderar la transformación digital en tu institución\, empresa o comunidad. \n👩‍🏫 Participa en talleres\, conferencias y espacios de diálogo sobre IA\, Cloud\, Big Data\, protección de datos y más\, con ponentes de alto nivel.\nAccede aqui: https://lnkd.in/eGaVBnB3
URL:https://citec.com.ec/eventos/ii-semana-de-la-inteligencia-artificial-y-ciberseguridad/
ATTACH;FMTTYPE=image/png:https://citec.com.ec/wp-content/uploads/2025/06/Captura-de-pantalla-2025-06-04-a-las-12.44.12 p.-m.png
END:VEVENT
BEGIN:VEVENT
DTSTART;VALUE=DATE:20250609
DTEND;VALUE=DATE:20250618
DTSTAMP:20260421T102615
CREATED:20250603T221511Z
LAST-MODIFIED:20250603T221604Z
UID:23481-1749427200-1750204799@citec.com.ec
SUMMARY:Curso ITIL® 4 Specialist: Monitor\, Support and Fulfil
DESCRIPTION:  \n🎓 ¡Nuestros socios de @hawa.experts traen para ti una nueva oportunidad para potenciar tu desarrollo profesional en ITIL® 4! \nYa están abiertas las inscripciones para el curso ITIL® 4 Specialist: Monitor\, Support and Fulfil\, una formación clave para transformar tus capacidades operativas en verdadero valor estratégico. \n🔍 Profundiza en prácticas como Monitoreo\, Soporte Técnico\, Gestión de Incidentes\, Solicitudes y más.\n📅 Modalidad virtual | Cupos limitados \n🚀 ¡Lleva tu gestión de TI al siguiente nivel! https://shorturl.at/MVnKb
URL:https://citec.com.ec/eventos/curso-itil-4-specialist-monitor-support-and-fulfil/
ATTACH;FMTTYPE=image/jpeg:https://citec.com.ec/wp-content/uploads/2025/06/WhatsApp-Image-2025-05-29-at-6.14.49-PM.jpeg
END:VEVENT
BEGIN:VEVENT
DTSTART;VALUE=DATE:20250610
DTEND;VALUE=DATE:20250611
DTSTAMP:20260421T102615
CREATED:20250602T223520Z
LAST-MODIFIED:20250602T223520Z
UID:23473-1749513600-1749599999@citec.com.ec
SUMMARY:EKOS AI BUSINESS SUMMIT 2025
DESCRIPTION:https://citec.com.ec/wp-content/uploads/2025/06/SAVE-THE-DATE-AI-SUMMIT-h-ok.mp4\n🧠 ¡Sé parte de la nueva era de la inteligencia artificial! \nNuestros aliados de @revistaekos te invitan a vivir una jornada llena de inspiración\, innovación y networking para entender cómo la IA está revolucionando los negocios. \n📍 Swissôtel Quito\n🗓 10 de junio de 2025 \n🔗 Postula tu asistencia en\nekoseventos.com/iasummit2025-quito
URL:https://citec.com.ec/eventos/ekos-ai-business-summit-2025/
ATTACH;FMTTYPE=image/png:https://citec.com.ec/wp-content/uploads/2025/06/1.png
END:VEVENT
BEGIN:VEVENT
DTSTART;TZID=UTC:20250611T190000
DTEND;TZID=UTC:20250611T200000
DTSTAMP:20260421T102615
CREATED:20250604T173824Z
LAST-MODIFIED:20250604T173824Z
UID:23488-1749668400-1749672000@citec.com.ec
SUMMARY:TECH & TONIC
DESCRIPTION:¿Estás listo para descubrir nuevas oportunidades en ciberseguridad mientras disfrutas de una experiencia única? 🔐🍸 \nTech & Tonic es un exclusivo After Office donde la coctelería artesanal se fusiona con la ciberseguridad\, una iniciativa de nuestro socio @vialynksa \n🔒 Conoce las ventajas de @kasperskylablatam\n💼 Descubre oportunidades de negocio para ti y tus clientes\n📍 Evento presencial en Cuenca \n📅 Miércoles 11 de junio\n🕖 7:00 PM\n📍 Hotel Zahir TRYP by Wyndham\, Cuenca \n🎟 Cupos limitados — asegura tu lugar ahora \n🔗 Más info y registro: https://shorturl.at/Vz7v7
URL:https://citec.com.ec/eventos/tech-tonic/
ATTACH;FMTTYPE=image/jpeg:https://citec.com.ec/wp-content/uploads/2025/06/Invitaciones-presenciales-1.jpg
END:VEVENT
BEGIN:VEVENT
DTSTART;VALUE=DATE:20250612
DTEND;VALUE=DATE:20250613
DTSTAMP:20260421T102615
CREATED:20250519T170626Z
LAST-MODIFIED:20250519T170626Z
UID:23452-1749686400-1749772799@citec.com.ec
SUMMARY:Desbloquea el potencial de replicación en Tiempo Real
DESCRIPTION:  \n \nUna correcta gestión del dato no debe limitarse a su almacenamiento y seguridad\, sino que debe incluir su optimización y disponibilidad. \n↪️Aquí es donde entra en juego la replicación de bases de datos ya que: \n🔹 Garantiza alta disponibilidad manteniendo los datos siempre accesibles\, incluso si el servidor principal falla.\n🔹 Permite escalar sin límites distribuyendo la carga de trabajo entre varios servidores para mejorar el rendimiento.\n🔹Mantiene copias actualizadas para evitar pérdidas de información.\n🔹Actúa como balanceador de carga\, distribuyendo consultas para mejorar la eficiencia del sistema.\n🔹Facilita la recuperación ante desastre\, restaurando los datos de forma rápida y segura. \nDe todo esto hablaremos el próximo 3 de abril en el webinar gratuito que impartiremos\, un evento online donde exploraremos la sincronización de datos en entornos heterogéneos: RDBMS\, NoSQL\, Data Lakes y servicios de streaming\, así como la replicación y sincronización en tiempo real entre bases de datos relacionales y no relacionales. \n📌Agenda \n➡️ Rendimiento imbatible: 15 ms por cada 1.000 transacciones sostenidas.\n➡️ Bases de datos modernas: flexibilidad\, eficiencia y menos costes.\n➡️ Adiós a las copias 1:1 y los ETLs tradicionales: Bienvenido low-code/no-code.\n➡️ Modelado avanzado: Une\, filtra y representa datos con consultas SQL y metadescripción sencilla. \n📌 DEMO EN DIRECTO. Además\, contaremos con nuestro experto Giovanny Endara que realizará una demostración en directo de una réplica de datos entre MS SQL Server y PostgreSQL en la nube. \nHaz clic aquí para reservar tu plaza: ↪️🔗 https://shorturl.at/fYm3K \n¡Nos vemos dentro!
URL:https://citec.com.ec/eventos/desbloquea-el-potencial-de-replicacion-en-tiempo-real/
ATTACH;FMTTYPE=image/png:https://citec.com.ec/wp-content/uploads/2025/05/CITEC-IG.png
END:VEVENT
BEGIN:VEVENT
DTSTART;TZID=UTC:20250612T150000
DTEND;TZID=UTC:20250612T163000
DTSTAMP:20260421T102615
CREATED:20250618T203711Z
LAST-MODIFIED:20250618T203711Z
UID:23544-1749740400-1749745800@citec.com.ec
SUMMARY:🎬 VIDEOCASOS: Cómo presentar proyectos que atrapen\, sorprendan y ganen.
DESCRIPTION:🎬 VIDEOCASOS: Cómo presentar proyectos que atrapen\, sorprendan y ganen.  \nEste espacio está dirigido a las entidades públicas interesadas en postular al concurso\, y tiene como objetivo brindar herramientas prácticas para la elaboración de videos de postulación efectivos y creativos. La sesión estará a cargo de Andrés Freile\, de Paradais DDB Quito\, una agencia referente en comunicación estratégica. \nEste evento marca el inicio de una serie de webinars temáticos que realizaremos en las próximas semanas\, y en los que contaremos con la valiosa participación técnica de cada uno de ustedes para profundizar en las distintas categorías del concurso. \n📩 Formulario de asistencia al webinar: https://forms.gle/BiW1iEQmEjyND5vx7 \nLes agradecemos de antemano si pueden ayudarnos a compartir esta invitación con sus redes\, aliados institucionales o equipos técnicos\, a quienes pueda interesarles el tema o participar como entidades postulantes. \nSerá un gusto contar con su presencia este jueves y continuar fortaleciendo juntos este proceso de reconocimiento a la buena pública. \n🚨Link de zoom \nhttps://us02web.zoom.us/j/81192602515?pwd=7yPh36wgbPcMgfqeISQNhvFB8Odobn.1 \nMeeting ID: 811 9260 2515 \nPasscode: 529215
URL:https://citec.com.ec/eventos/%f0%9f%8e%ac-videocasos-como-presentar-proyectos-que-atrapen-sorprendan-y-ganen/
END:VEVENT
BEGIN:VEVENT
DTSTART;VALUE=DATE:20250614
DTEND;VALUE=DATE:20250615
DTSTAMP:20260421T102615
CREATED:20250519T163200Z
LAST-MODIFIED:20250519T165610Z
UID:23447-1749859200-1749945599@citec.com.ec
SUMMARY:SUMMIT DEL FUTURO FINANCIERO
DESCRIPTION:🎉 ExpoInvierte 2025 – Summit del Futuro Financiero\n🗓️ Sábado 14 de junio | 📍UEES\, Guayaquil \n¿Quieres aprender a invertir\, entender el mercado de valores y dominar tu futuro financiero?\n¿Te gustaría despegar tu carrera como un accionista exitoso?\n👉 ¡Este es el evento que estabas esperando! \nTemas que marcarán tu camino financiero:\n💼 Finanzas personales\n🚀 Startups y banca\n🤖 Fintech e inteligencia artificial\n📊 Impuestos\, seguros y mucho más \n📍Organiza: Futuro Casa de Valores\n🤝 En colaboración con la Universidad de Especialidades Espíritu Santo (UEES) \n🔗 ¡Prepárate para invertir con propósito!\n🎟️ Regístrate y compra tu entrada en:\n👉 www.futurocasadevalores.com/expoinvierte2025
URL:https://citec.com.ec/eventos/23447/
ATTACH;FMTTYPE=image/png:https://citec.com.ec/wp-content/uploads/2025/05/Captura-de-pantalla-2025-05-19-a-las-11.31.01 a.-m.png
END:VEVENT
BEGIN:VEVENT
DTSTART;VALUE=DATE:20250618
DTEND;VALUE=DATE:20250619
DTSTAMP:20260421T102615
CREATED:20250604T175206Z
LAST-MODIFIED:20250604T175206Z
UID:23498-1750204800-1750291199@citec.com.ec
SUMMARY:Expo de Logística & Supply Chain
DESCRIPTION:` \n📌 Vive la 𝗘𝘅𝗽𝗼 𝗱𝗲 𝗟𝗼𝗴í𝘀𝘁𝗶𝗰𝗮 & 𝗦𝘂𝗽𝗽𝗹𝘆 𝗖𝗵𝗮𝗶𝗻 más importante del año. 🇪🇨 \nConocerás: \n✅ Soluciones de vanguardia \n✅ Speakers internacionales \n✅ Conexiones estratégicas \n🗓️ 18 de junio | 📍 Hotel Hilton Colón \n🔗 Link en la Bio💪 \n¡Regístrate ¡GRATIS! Aquí. \n🎟️ Reserva tu lugar y lidera la transformación
URL:https://citec.com.ec/eventos/expo-de-logistica-supply-chain/
ATTACH;FMTTYPE=image/jpeg:https://citec.com.ec/wp-content/uploads/2025/06/📌-Vive-la-𝗘𝘅𝗽𝗼-𝗱𝗲-𝗟𝗼𝗴i𝘀𝘁𝗶𝗰𝗮-𝗦𝘂𝗽𝗽𝗹𝘆-𝗖𝗵𝗮𝗶𝗻-mas-importante-del-ano.-🇪🇨Conoceras-✅-Soluciones-de-vanguardia✅-Speakers-internacionales✅-Conexiones-es.jpg
END:VEVENT
BEGIN:VEVENT
DTSTART;VALUE=DATE:20250618
DTEND;VALUE=DATE:20250731
DTSTAMP:20260421T102615
CREATED:20250806T155926Z
LAST-MODIFIED:20250806T155926Z
UID:23835-1750204800-1753919999@citec.com.ec
SUMMARY:Misión Emprende 593
DESCRIPTION:https://citec.com.ec/wp-content/uploads/2025/08/8.2.-MISION-EMPRENDE-593-6_05-18_00_1.mp4\n  \nTodo gran viaje comienza con una decisión. 🚀 \nSi crees en tu idea y estás listo para llevarla más allá de los límites\,\neste es tu momento. \nNo se trata solo de emprender\, sino de formar parte de una\ntripulación decidida a transformar el país desde la innovación. 🌌 \n3.000 emprendedores serán seleccionados para comenzar la\nmisión. Solo 15 llegarán a la fase final. \nSi estás listo para asumir el reto\, esta es tu misión.\nhashtag#MisiónEmprende593 \n⏳ La cuenta regresiva ya comenzó. \n🔗 Postula hasta el 30 de julio en: www.misionemprende593.com \nMisión Emprende 593
URL:https://citec.com.ec/eventos/mision-emprende-593/
ATTACH;FMTTYPE=image/jpeg:https://citec.com.ec/wp-content/uploads/2025/08/CARRUSEL-ME593_Slide1.jpg
END:VEVENT
BEGIN:VEVENT
DTSTART;VALUE=DATE:20250619
DTEND;VALUE=DATE:20250621
DTSTAMP:20260421T102616
CREATED:20250218T163147Z
LAST-MODIFIED:20250224T143306Z
UID:22950-1750291200-1750463999@citec.com.ec
SUMMARY:EXPOFERIA AMBATO 2025
DESCRIPTION:🚀 ¡AMBATO SE PREPARA PARA UN EVENTO ÚNICO! � \n📅 19 y 20 de Junio 2025\n📍 EXPOFERIA AMBATO 2025 \n💡 ¿Listo para transformar tu futuro?\n✅ Descubre las últimas tendencias en finanzas digitales.\n✅ Conoce oportunidades de negocios inclusivos que marcarán la diferencia.\n✅ Conéctate con expertos y emprendedores que están cambiando el juego. \n🔥 ¡No te lo puedes perder!\n👉 ¿Quieres más información? Conoce más en el siguiente enlace.  https://bit.ly/ExpoFeriaAmbato
URL:https://citec.com.ec/eventos/expoferia-ambato-2025/
ATTACH;FMTTYPE=image/png:https://citec.com.ec/wp-content/uploads/2025/02/banner-popup-citec.png
END:VEVENT
BEGIN:VEVENT
DTSTART;TZID=UTC:20250626T080000
DTEND;TZID=UTC:20250626T100000
DTSTAMP:20260421T102616
CREATED:20250702T150746Z
LAST-MODIFIED:20250702T150826Z
UID:23649-1750924800-1750932000@citec.com.ec
SUMMARY:Nueva Ley de Inteligencia: Entre la seguridad y los riesgos legales
DESCRIPTION:MasterClass | Nueva Ley de Inteligencia: Entre la seguridad y los riesgos legales \n\n\n Este 26 de junio\, acompáñanos en una masterclass clave para el entorno empresarial y jurídico del país\, donde analizaremos los alcances\, implicaciones y desafíos que trae la nueva Ley de Inteligencia en Ecuador.\n\n\nEntre los expertos invitados estará José Luis Barzallo \, Presidente de CITEC y socio de #avlabogados \, quien compartirá su visión sobre cómo esta normativa impacta al sector tecnológico y empresarial\, y qué estrategias pueden adoptar las compañías para cumplir con la ley sin comprometer su seguridad corporativa.\n\n\nJunto a él\, también participará Patricio Carrillo\, exministro del Interior\, para ofrecer una perspectiva integral desde lo legal y lo operativo.\n\n\n Lugar: Edificio Copladi\, Piso 2 – Amazonas y Azuay\n Cupos limitados\n No pierdas esta oportunidad de formación exclusiva.\n\n\n¡Inscríbete ahora en: https://forms.office.com/r/2s7jJxp9ht
URL:https://citec.com.ec/eventos/nueva-ley-de-inteligencia-entre-la-seguridad-y-los-riesgos-legales/
ATTACH;FMTTYPE=image/jpeg:https://citec.com.ec/wp-content/uploads/2025/07/511589890_1164718952366721_3743798269787410471_n.jpg
END:VEVENT
END:VCALENDAR